BEGIN:VCALENDAR
VERSION:2.0
PRODID:-//Ghost Rider MTB - ECPv6.15.14//NONSGML v1.0//EN
CALSCALE:GREGORIAN
METHOD:PUBLISH
X-WR-CALNAME:Ghost Rider MTB
X-ORIGINAL-URL:https://ghostridermtb.com
X-WR-CALDESC:Events for Ghost Rider MTB
REFRESH-INTERVAL;VALUE=DURATION:PT1H
X-Robots-Tag:noindex
X-PUBLISHED-TTL:PT1H
BEGIN:VTIMEZONE
TZID:America/Toronto
BEGIN:DAYLIGHT
TZOFFSETFROM:-0500
TZOFFSETTO:-0400
TZNAME:EDT
DTSTART:20240310T070000
END:DAYLIGHT
BEGIN:STANDARD
TZOFFSETFROM:-0400
TZOFFSETTO:-0500
TZNAME:EST
DTSTART:20241103T060000
END:STANDARD
BEGIN:DAYLIGHT
TZOFFSETFROM:-0500
TZOFFSETTO:-0400
TZNAME:EDT
DTSTART:20250309T070000
END:DAYLIGHT
BEGIN:STANDARD
TZOFFSETFROM:-0400
TZOFFSETTO:-0500
TZNAME:EST
DTSTART:20251102T060000
END:STANDARD
BEGIN:DAYLIGHT
TZOFFSETFROM:-0500
TZOFFSETTO:-0400
TZNAME:EDT
DTSTART:20260308T070000
END:DAYLIGHT
BEGIN:STANDARD
TZOFFSETFROM:-0400
TZOFFSETTO:-0500
TZNAME:EST
DTSTART:20261101T060000
END:STANDARD
END:VTIMEZONE
BEGIN:VEVENT
DTSTART;TZID=America/Toronto:20250701T080000
DTEND;TZID=America/Toronto:20250709T100000
DTSTAMP:20260421T043821
CREATED:20250403T174524Z
LAST-MODIFIED:20250403T174524Z
UID:1587-1751356800-1752055200@ghostridermtb.com
SUMMARY:Quebec Road trip
DESCRIPTION:Quebec Road trip will involve 7 days of riding the trails north of Quebec City. \nPlaces planned but not all & no firm sched set yet \nEmpire 47\nhttps://maps.app.goo.gl/5x4gHN3fYkHAnhmZ9 \nSentiers du Moulin\nhttps://www.trailforks.com/region/sentiers-du-moulin/ \nVBN Secteur Shannahan\nhttps://www.trailforks.com/region/vbn-secteur-shannahan/ \nExpect lots of climbing\, downhill\, XC\, Technical\, & adventure riding.
URL:https://ghostridermtb.com/event/quebec-road-trip/
LOCATION:Empire 47 – Quebec\, Quebec\, Canada
CATEGORIES:Rides
ATTACH;FMTTYPE=image/jpeg:https://ghostridermtb.com/wp-content/uploads/2025/04/shanahanMTB.jpg
END:VEVENT
BEGIN:VEVENT
DTSTART;TZID=America/Toronto:20250712T103000
DTEND;TZID=America/Toronto:20250712T133000
DTSTAMP:20260421T043821
CREATED:20250711T154843Z
LAST-MODIFIED:20250711T154843Z
UID:1705-1752316200-1752327000@ghostridermtb.com
SUMMARY:We're going to the 🌟 GRAND OPENING🌟 Of the ribbon cutting celebration and group ride at MORCA’s brand-new South Monck Trails
DESCRIPTION:We are planning to join the MORCA crew for a ride at the new trail system. Details below.\n\nMessage from MORCA “Get ready to ride!  Join us for the ribbon cutting celebration and group ride at MORCA’s brand-new South Monck Trail System!\n\n\n Saturday\, July 12th\n 10:30 AM\n South Monck Trails (Sno-Bombers parking lot\, off Lilac Lane)\n\n\n Bring your bike\, bring your friends\, make new friends\, and learn the new trail system with the MORCA crew!\n\n\nWe’re honoured to have Town of Bracebridge Mayor Rick Maloney on hand to help officially cut the ribbon and celebrate this community achievement.”
URL:https://ghostridermtb.com/event/were-going-to-the-%f0%9f%8c%9f-grand-opening%f0%9f%8c%9f-of-the-ribbon-cutting-celebration-and-group-ride-at-morcas-brand-new-south-monck-trails/
LOCATION:South Monck Trails\, Lilac Lane\, Brace Bridge\, On\, P1L 1W9\, Canada
CATEGORIES:Events,Rides
ATTACH;FMTTYPE=image/jpeg:https://ghostridermtb.com/wp-content/uploads/2025/07/SouthMonck1.jpg
END:VEVENT
BEGIN:VEVENT
DTSTART;TZID=America/Toronto:20250720T100000
DTEND;TZID=America/Toronto:20250720T140000
DTSTAMP:20260421T043821
CREATED:20250408T154347Z
LAST-MODIFIED:20250408T154347Z
UID:1602-1753005600-1753020000@ghostridermtb.com
SUMMARY:Back to Batawa
DESCRIPTION:We are going back to ride Batawa Ski Hill & Batawa North. \nhttps://www.trailforks.com/region/batawa-ski-hill \nhttps://www.trailforks.com/region/batawa-north-28099/ \nParking: https://maps.app.goo.gl/5aHwgd8aZEfArGbc6 \nThe last visit was in 2021 & it was quite the adventure with no signage & poor trail management due to Covid. \nNow the are has been hopping with rides & there are signs. \nWhat to expect: Lots of climbs & downhill runs. 25 t0 35Km \nThis is an Advanced ride. Challenge yourself on some of the best trails in the network. Experienced riders will appreciate the technical challenges of this route. \nBring a chair\, snack or food & beverage for after the ride. \n 
URL:https://ghostridermtb.com/event/back-to-batawa/
LOCATION:Batawa\, 99 Ski Club Ln\, Batawa\, On\, K0K 1E0\, Canada
CATEGORIES:Rides
ATTACH;FMTTYPE=image/jpeg:https://ghostridermtb.com/wp-content/uploads/2024/06/Homepage-Image.jpg
END:VEVENT
END:VCALENDAR