BEGIN:VCALENDAR
VERSION:2.0
PRODID:-//Ghost Rider MTB - ECPv6.15.14//NONSGML v1.0//EN
CALSCALE:GREGORIAN
METHOD:PUBLISH
X-WR-CALNAME:Ghost Rider MTB
X-ORIGINAL-URL:https://ghostridermtb.com
X-WR-CALDESC:Events for Ghost Rider MTB
REFRESH-INTERVAL;VALUE=DURATION:PT1H
X-Robots-Tag:noindex
X-PUBLISHED-TTL:PT1H
BEGIN:VTIMEZONE
TZID:America/Toronto
BEGIN:DAYLIGHT
TZOFFSETFROM:-0500
TZOFFSETTO:-0400
TZNAME:EDT
DTSTART:20230312T070000
END:DAYLIGHT
BEGIN:STANDARD
TZOFFSETFROM:-0400
TZOFFSETTO:-0500
TZNAME:EST
DTSTART:20231105T060000
END:STANDARD
BEGIN:DAYLIGHT
TZOFFSETFROM:-0500
TZOFFSETTO:-0400
TZNAME:EDT
DTSTART:20240310T070000
END:DAYLIGHT
BEGIN:STANDARD
TZOFFSETFROM:-0400
TZOFFSETTO:-0500
TZNAME:EST
DTSTART:20241103T060000
END:STANDARD
BEGIN:DAYLIGHT
TZOFFSETFROM:-0500
TZOFFSETTO:-0400
TZNAME:EDT
DTSTART:20250309T070000
END:DAYLIGHT
BEGIN:STANDARD
TZOFFSETFROM:-0400
TZOFFSETTO:-0500
TZNAME:EST
DTSTART:20251102T060000
END:STANDARD
END:VTIMEZONE
BEGIN:VEVENT
DTSTART;TZID=America/Toronto:20240901T101500
DTEND;TZID=America/Toronto:20240901T133000
DTSTAMP:20260421T043901
CREATED:20240320T135856Z
LAST-MODIFIED:20240830T132434Z
UID:1179-1725185700-1725197400@ghostridermtb.com
SUMMARY:Update!!! Labour Day weekend - Simcoe Forest - Creeks Black ride
DESCRIPTION:We are heading to the Simcoe Forest – Oro tract to ride the Creeks Black route (plus more) \nStarting 10:15 to 10:30 from the parking location below. \nhttps://www.trailforks.com/trails/creeks-black/ \nThis is an intermediate to Advanced ride\, Expect 30+ KM \nTrailforks Route: https://www.trailforks.com/ridelog/planner/view/536553/ \nParking on Line 5 N\, Coldwater\, ON L0K 1E0. This is the roadside as we enter the Tustin Tract \nhttps://maps.app.goo.gl/KEZ3cjZ6PgnzuAxj8 \nExpect mozzies & Labour day level heat.
URL:https://ghostridermtb.com/event/labour-day-weekend-simcoe-forest-creeks-black-ride/
LOCATION:Simcoe Forest – Oro – 100 Bass Lake Sideroad\, 100 Bass Lake Sideroad\, Oro-Medonte\, On\, Canada
CATEGORIES:Rides
ATTACH;FMTTYPE=image/png:https://ghostridermtb.com/wp-content/uploads/2024/03/SCMBC-ORO-Creeks.png
END:VEVENT
BEGIN:VEVENT
DTSTART;TZID=America/Toronto:20240908T100000
DTEND;TZID=America/Toronto:20240908T130000
DTSTAMP:20260421T043901
CREATED:20240906T193846Z
LAST-MODIFIED:20240906T193846Z
UID:1496-1725789600-1725800400@ghostridermtb.com
SUMMARY:Rain dodging - Dufferin County Forest Main Tract - Tribe ride
DESCRIPTION:With all the rains this summer planning outings has been sucky! \nSo this Sunday 8th September we are heading to Dufferin forest Main tract – weather permitting.  \n10Am start \nhttps://www.trailforks.com/region/dufferin-county-forest-main-tract/ \nParking: Main Parking lot: https://maps.app.goo.gl/aw7UpfX4Bz2GJx7j8 \nExpect 25 to 30km. Mostly blue & some black fast & flowy trails. \nBring a chair\, beverage & snack/food for after the ride. \nMozzies may still be active\, so BUG spray might be a good idea.
URL:https://ghostridermtb.com/event/rain-dodging-dufferin-county-forest-main-tract-tribe-ride/
LOCATION:Dufferin Forest Main Tract\, Mulmur\, ON\, Mulmur\, ON\, Ontario\, Canada
CATEGORIES:Rides
ATTACH;FMTTYPE=image/jpeg:https://ghostridermtb.com/wp-content/uploads/2023/07/20230521_100100.jpg
END:VEVENT
BEGIN:VEVENT
DTSTART;TZID=America/Toronto:20240915T100000
DTEND;TZID=America/Toronto:20240915T133000
DTSTAMP:20260421T043901
CREATED:20240320T141223Z
LAST-MODIFIED:20240914T182508Z
UID:1183-1726394400-1726407000@ghostridermtb.com
SUMMARY:Glebe Park pre-fall ride
DESCRIPTION:Glebe  Park for a pre-fall ride. This is another interesting but challenging location. \nhttps://www.trailforks.com/region/glebe-park/ \nRide plan: https://www.trailforks.com/ridelog/planner/view/541038/ \nThis is an intermediate to Advanced ride \nParking at Fleming College Parking. \nhttps://maps.app.goo.gl/wMomnU5ZcqBd7YBa7 \nBring a beverage\, snack & chair for after the ride. \nExpect end of season mozzies
URL:https://ghostridermtb.com/event/glebe-park-pre-fall-ride/
LOCATION:Glebe Park\, 289 College Dr\, Haliburton\, On\, K0M 1S0\, Canada
CATEGORIES:Rides
ATTACH;FMTTYPE=image/jpeg:https://ghostridermtb.com/wp-content/uploads/2024/03/GlebePark.jpg
END:VEVENT
BEGIN:VEVENT
DTSTART;TZID=America/Toronto:20240929T100000
DTEND;TZID=America/Toronto:20240929T140000
DTSTAMP:20260421T043901
CREATED:20240925T211059Z
LAST-MODIFIED:20240925T211059Z
UID:1507-1727604000-1727618400@ghostridermtb.com
SUMMARY:Turkey Point Mountain Bike club Fall Ripper Event
DESCRIPTION:Join us at the TPMBC eventt for their 2024 Fall Ripper this Sunday\, September 29th from 8 – 4 at Long Point Eco Adventures. \nDetails below: \nThis event has always acted as a fundraiser\, all monies raised are put back into our network to help maintain & improve our trails. Help us celebrate (rain or shine) the sport we all love & the start of our favourite season to ride in Turkey Point. \nhttps://www.tpmbc.com/event-details-registration/fall-ripper-2024-fundraiser \n• Registration starts @ 8:00 AM. \n• Guided Group Rides start @ 9:30 AM sharp & last approx. 2 hours! (Beginner\, Intermediate\, Advanced & L.O.S.T). \n• Raffle prizes & 50/50 @ 2:00 PM. \nIncluded in the $20 admission: \n• popcorn from Uncle Bob’s Popping Corn \n• Guided Group Rides \n• a sample beer from Hometown Brew Co. \n• entry to win draw prizes from the giveaway table! We’ve got swag & gear from our sponsors\, a TPMBC Trail Map\, a Rocky Mountain bike from Elevation Mountain Bike Camps & Coaching (your choice of a Blizzard 20 Fat Tire Bike or a Growler 20 Hardtail) & lots more to be won!! \nWe’ve got our pal Jay Rock playing live music\, a plethora of vendors\, food from Taco’s N Tequila & The Marshview Patio\, gourmet coffee from Altitude Coffee Roasters\, & cold beverages to help you hydrate after your ride. We’ll be selling TPMBC merch (limited quantity of our new club jerseys) & as always\, this is a family friendly event so bring the little rippers along too! Come hang out at what’s shaping up to be our biggest event yet.
URL:https://ghostridermtb.com/event/turkey-point-mountain-bike-club-fall-ripper-event/
LOCATION:Turkey Point – Eco Center Parking\, 1730 Front Rd\, St Williams\, Ontario\, N0E 1P0\, Canada
CATEGORIES:Events,Rides
ATTACH;FMTTYPE=image/jpeg:https://ghostridermtb.com/wp-content/uploads/2023/09/20221016_132204.jpg
END:VEVENT
END:VCALENDAR