BEGIN:VCALENDAR
VERSION:2.0
PRODID:-//Ghost Rider MTB - ECPv6.15.14//NONSGML v1.0//EN
CALSCALE:GREGORIAN
METHOD:PUBLISH
X-WR-CALNAME:Ghost Rider MTB
X-ORIGINAL-URL:https://ghostridermtb.com
X-WR-CALDESC:Events for Ghost Rider MTB
REFRESH-INTERVAL;VALUE=DURATION:PT1H
X-Robots-Tag:noindex
X-PUBLISHED-TTL:PT1H
BEGIN:VTIMEZONE
TZID:America/Toronto
BEGIN:DAYLIGHT
TZOFFSETFROM:-0500
TZOFFSETTO:-0400
TZNAME:EDT
DTSTART:20230312T070000
END:DAYLIGHT
BEGIN:STANDARD
TZOFFSETFROM:-0400
TZOFFSETTO:-0500
TZNAME:EST
DTSTART:20231105T060000
END:STANDARD
BEGIN:DAYLIGHT
TZOFFSETFROM:-0500
TZOFFSETTO:-0400
TZNAME:EDT
DTSTART:20240310T070000
END:DAYLIGHT
BEGIN:STANDARD
TZOFFSETFROM:-0400
TZOFFSETTO:-0500
TZNAME:EST
DTSTART:20241103T060000
END:STANDARD
BEGIN:DAYLIGHT
TZOFFSETFROM:-0500
TZOFFSETTO:-0400
TZNAME:EDT
DTSTART:20250309T070000
END:DAYLIGHT
BEGIN:STANDARD
TZOFFSETFROM:-0400
TZOFFSETTO:-0500
TZNAME:EST
DTSTART:20251102T060000
END:STANDARD
END:VTIMEZONE
BEGIN:VEVENT
DTSTART;TZID=America/Toronto:20240701T100000
DTEND;TZID=America/Toronto:20240701T130000
DTSTAMP:20260423T062624
CREATED:20240317T184700Z
LAST-MODIFIED:20240627T013444Z
UID:1145-1719828000-1719838800@ghostridermtb.com
SUMMARY:Dagmar North Long Weekend Monday Ride
DESCRIPTION:Hitting the Dagmar North trails on  the Holiday Monday. \nhttps://www.trailforks.com/region/dagmar-north-trails/ \nDagmar north is a fast & furious trail ride. The famous “Skin & Bones trail” waits for those advanced riders that wish to tear through it. Intermediate riders have the opportunity to advance their skills. \nThis is a intermediate to advanced ride. \nWe park at the Trail Hub\, pay the $5\, we are going to ride the new trails on the property before we head over to Dagmar North. \nParking: https://maps.app.goo.gl/mswNJT4ZkEbNhXSJ9 \nThe Trail Hub has a really nice food service & a great back porch to enjoy an after ride beverage… \nRain date: July 06th
URL:https://ghostridermtb.com/event/dagmar-north-long-weekend-ride/
LOCATION:Dagmar North\, 1681 Concession Rd 7\, Uxbridge\, On\, L9P 1R4\, Canada
CATEGORIES:Rides
ATTACH;FMTTYPE=image/jpeg:https://ghostridermtb.com/wp-content/uploads/2024/03/01-Dawn_screenshot.jpg
END:VEVENT
BEGIN:VEVENT
DTSTART;TZID=America/Toronto:20240714T100000
DTEND;TZID=America/Toronto:20240714T140000
DTSTAMP:20260423T062624
CREATED:20240317T185212Z
LAST-MODIFIED:20240317T185212Z
UID:1150-1720951200-1720965600@ghostridermtb.com
SUMMARY:Copeland Forest Big Ride
DESCRIPTION:Sunday ride at Copeland Forest. 10 am start. Expect 20 to 30km. \nhttps://www.trailforks.com/region/copeland-forest/ \nThis is a intermediate to advanced ride. \nParking at : P4 on Line 5 \nhttps://www.trailforks.com/poi/13865/ \nor \nhttps://maps.app.goo.gl/jJG4FZzMtPJ17bPFA \nNote:\nIt’s going to be a warm one so bring lots of water. \nIt’s also mozzy season… and they’re ravenous! Unless you plan on feeding them\, apply your bug spray. \nRain Date: July 21st
URL:https://ghostridermtb.com/event/copeland-forest-big-ride/
LOCATION:Copeland Forest P4 Parking\, 3460-3454 Line 5 N\, Coldwater\, On\, L0K 1E0\, Canada
CATEGORIES:Rides
ATTACH;FMTTYPE=image/jpeg:https://ghostridermtb.com/wp-content/uploads/2023/04/20220806_125003_001-scaled.jpg
END:VEVENT
BEGIN:VEVENT
DTSTART;TZID=America/Toronto:20240728T100000
DTEND;TZID=America/Toronto:20240728T130000
DTSTAMP:20260423T062624
CREATED:20240317T185741Z
LAST-MODIFIED:20240725T194926Z
UID:1153-1722160800-1722171600@ghostridermtb.com
SUMMARY:Bracebridge Resource Management Centre - BRMC
DESCRIPTION:Sunday Ride at BRMC – 10 am start. Expect 15 – 20Km \nhttps://www.trailforks.com/region/resource-management-centre/ \nThis is an advanced ride!!!!!!!!!!!!!!!! \nParking at : https://goo.gl/maps/Rko8LhXSd6EgA8j98 \nBring a chair & beverage & food if you wish for after the ride \nBug Spray is recommended – Mozzies are hungry \nRain Date: TBD
URL:https://ghostridermtb.com/event/bracebridge-resource-management-centre-brmc-2/
LOCATION:BRMC – South Lot Map
CATEGORIES:Rides
ATTACH;FMTTYPE=image/jpeg:https://ghostridermtb.com/wp-content/uploads/2024/03/01_screenshot.jpg
END:VEVENT
END:VCALENDAR