BEGIN:VCALENDAR
VERSION:2.0
PRODID:-//Ghost Rider MTB - ECPv6.15.14//NONSGML v1.0//EN
CALSCALE:GREGORIAN
METHOD:PUBLISH
X-ORIGINAL-URL:https://ghostridermtb.com
X-WR-CALDESC:Events for Ghost Rider MTB
REFRESH-INTERVAL;VALUE=DURATION:PT1H
X-Robots-Tag:noindex
X-PUBLISHED-TTL:PT1H
BEGIN:VTIMEZONE
TZID:America/Toronto
BEGIN:DAYLIGHT
TZOFFSETFROM:-0500
TZOFFSETTO:-0400
TZNAME:EDT
DTSTART:20230312T070000
END:DAYLIGHT
BEGIN:STANDARD
TZOFFSETFROM:-0400
TZOFFSETTO:-0500
TZNAME:EST
DTSTART:20231105T060000
END:STANDARD
BEGIN:DAYLIGHT
TZOFFSETFROM:-0500
TZOFFSETTO:-0400
TZNAME:EDT
DTSTART:20240310T070000
END:DAYLIGHT
BEGIN:STANDARD
TZOFFSETFROM:-0400
TZOFFSETTO:-0500
TZNAME:EST
DTSTART:20241103T060000
END:STANDARD
BEGIN:DAYLIGHT
TZOFFSETFROM:-0500
TZOFFSETTO:-0400
TZNAME:EDT
DTSTART:20250309T070000
END:DAYLIGHT
BEGIN:STANDARD
TZOFFSETFROM:-0400
TZOFFSETTO:-0500
TZNAME:EST
DTSTART:20251102T060000
END:STANDARD
END:VTIMEZONE
BEGIN:VEVENT
DTSTART;VALUE=DATE:20240406
DTEND;VALUE=DATE:20240413
DTSTAMP:20260423T115546
CREATED:20240208T152618Z
LAST-MODIFIED:20240208T152618Z
UID:1105-1712361600-1712966399@ghostridermtb.com
SUMMARY:Bentonville MTB Road Trip - On the road again
DESCRIPTION:We’re off to Bentonville\, Arkansas to ride all (well\, maybe not all) of the MTB trails at the famous mountain biking Capital of the world! \nAnother road trip a week to get to the center of it all. There is so much to see & do & ride that it’s going to be a busy week. \nWe are staying pretty much right in the middle of town\, if anyone wants to join us you can find an AirBNB and let us know you are there. \nWe will try to hit all of the around town & maybe some of the outer trail systems to make the best use of the riding days…
URL:https://ghostridermtb.com/event/bentonville-mtb-road-trip-on-the-road-again/
LOCATION:Bentonville\, Arkansas\, Bentonville\, AR\, United States
CATEGORIES:Events
ATTACH;FMTTYPE=image/png:https://ghostridermtb.com/wp-content/uploads/2024/02/Coler-Jump-medium.png
END:VEVENT
BEGIN:VEVENT
DTSTART;TZID=America/Toronto:20240416T173000
DTEND;TZID=America/Toronto:20240416T200000
DTSTAMP:20260423T115546
CREATED:20240416T131656Z
LAST-MODIFIED:20240416T131656Z
UID:1235-1713288600-1713297600@ghostridermtb.com
SUMMARY:Don Valley Bluebells Ride - Post Bentonville Recovery ride
DESCRIPTION:Plan is to ride from the Loblaws Parking lot on Redway road. Start from the Thomas Hauser Trailhead \nhttps://maps.app.goo.gl/DMazaBMoJ7QiW5u8A \n5:30pm start. \nRide down towards the Crothers Woods to look for the Blue Bells in bloom\, then ride the Southern Flats\, then back along the ridge to Loblaws (as construction permits). \nExpect cool weather\, some wet trail sections. \n 
URL:https://ghostridermtb.com/event/don-valley-bluebells-ride-post-bentonville-recovery-ride/
LOCATION:Loblaws Parking lot – Crothers Woods -Redway Rd\, Crothers Woods Trail\, Toronto\, On\, M4H 1P6\, Canada
CATEGORIES:Rides
ATTACH;FMTTYPE=image/jpeg:https://ghostridermtb.com/wp-content/uploads/2023/05/20230511_175702-scaled.jpg
END:VEVENT
BEGIN:VEVENT
DTSTART;TZID=America/Toronto:20240421T100000
DTEND;TZID=America/Toronto:20240421T123000
DTSTAMP:20260423T115546
CREATED:20240417T215516Z
LAST-MODIFIED:20240417T215516Z
UID:1237-1713693600-1713702600@ghostridermtb.com
SUMMARY:Dagmar North Spring Ride
DESCRIPTION:10:00 am start. Expect 15 to 20Km \n-Durham weather calls for 4 Celsius\, getting to 7 Celsius by noon. Dress warm. \n-Trails might be a little damp in places. \nhttps://www.trailforks.com/region/dagmar-north-trails/ \nThis is a casual intermediate to advanced ride from the Hub to Dagmar North & back to the Hub. \nParking at : The Hub \nhttps://maps.app.goo.gl/mswNJT4ZkEbNhXSJ9 \nSince we are the Hub\, there will be washrooms\, food & drinks for purchase. \n 
URL:https://ghostridermtb.com/event/dagmar-north-spring-ride/
LOCATION:Dagmar North\, 1681 Concession Rd 7\, Uxbridge\, On\, L9P 1R4\, Canada
CATEGORIES:Rides
ATTACH;FMTTYPE=image/jpeg:https://ghostridermtb.com/wp-content/uploads/2024/04/VID_20230415_104621_00_003_2023-04-16_08-15-52_screenshot.jpg
END:VEVENT
END:VCALENDAR