BEGIN:VCALENDAR
VERSION:2.0
PRODID:-//Ghost Rider MTB - ECPv6.15.14//NONSGML v1.0//EN
CALSCALE:GREGORIAN
METHOD:PUBLISH
X-WR-CALNAME:Ghost Rider MTB
X-ORIGINAL-URL:https://ghostridermtb.com
X-WR-CALDESC:Events for Ghost Rider MTB
REFRESH-INTERVAL;VALUE=DURATION:PT1H
X-Robots-Tag:noindex
X-PUBLISHED-TTL:PT1H
BEGIN:VTIMEZONE
TZID:America/Toronto
BEGIN:DAYLIGHT
TZOFFSETFROM:-0500
TZOFFSETTO:-0400
TZNAME:EDT
DTSTART:20220313T070000
END:DAYLIGHT
BEGIN:STANDARD
TZOFFSETFROM:-0400
TZOFFSETTO:-0500
TZNAME:EST
DTSTART:20221106T060000
END:STANDARD
BEGIN:DAYLIGHT
TZOFFSETFROM:-0500
TZOFFSETTO:-0400
TZNAME:EDT
DTSTART:20230312T070000
END:DAYLIGHT
BEGIN:STANDARD
TZOFFSETFROM:-0400
TZOFFSETTO:-0500
TZNAME:EST
DTSTART:20231105T060000
END:STANDARD
BEGIN:DAYLIGHT
TZOFFSETFROM:-0500
TZOFFSETTO:-0400
TZNAME:EDT
DTSTART:20240310T070000
END:DAYLIGHT
BEGIN:STANDARD
TZOFFSETFROM:-0400
TZOFFSETTO:-0500
TZNAME:EST
DTSTART:20241103T060000
END:STANDARD
END:VTIMEZONE
BEGIN:VEVENT
DTSTART;TZID=America/Toronto:20231001T100000
DTEND;TZID=America/Toronto:20231001T133000
DTSTAMP:20260423T214017
CREATED:20230926T162948Z
LAST-MODIFIED:20230926T162948Z
UID:972-1696154400-1696167000@ghostridermtb.com
SUMMARY:Mono Cliffs - Sunday Fall Ride
DESCRIPTION:We are fall riding Mono Cliffs on Sunday. \nhttps://www.trailforks.com/region/mono-cliffs-provincial-park/ \nStarting  10:00am from the Mono Cliffs community center parking lot. \nThat’s at the south end\, on Mono Centre Road just South of Dufferin Rd 8 \nParking: https://maps.app.goo.gl/2yGTDcuVUARG6YKQ7 \nExpect dust\, bushy\, damp &/or hero dirt conditions\, mosquitos are still alive and chasing. \n90 to 120 minutes\, 25km of mixed green to blue rated trails. All weather and ground condition dependent. Temps should be around 21 C so no freezer burn yet. \nBring a chair\, snack\, food and a beverage for after the ride. There is very little food purchase in the vicinity.
URL:https://ghostridermtb.com/event/mono-cliffs-sunday-fall-ride/
LOCATION:Mono Cliffs Provincial Park\, 754507-754519 Dufferin County Rd 8\, Orangeville\, Ontario\, L9W 2Y8\, Canada
CATEGORIES:Rides
ATTACH;FMTTYPE=image/jpeg:https://ghostridermtb.com/wp-content/uploads/2023/09/20221016_132204.jpg
END:VEVENT
BEGIN:VEVENT
DTSTART;TZID=America/Toronto:20231003T180000
DTEND;TZID=America/Toronto:20231003T200000
DTSTAMP:20260423T214017
CREATED:20231003T134314Z
LAST-MODIFIED:20231003T134314Z
UID:991-1696356000-1696363200@ghostridermtb.com
SUMMARY:Tuesday Evening Don Valley ride
DESCRIPTION:We are riding this evening from Loblaws\, Redway Road. \nStart time: 6pm \nRoute: General; Sanitation\, Ridge\, Beaver\, Boo\, Bunny\, Training\, Flats or Ridge back. \nBring lights\, darkness descends around 7pm but darkness arrives under the canopy much earlier. \nShould be warm so bring water. \nMozzies still have teeth so wear off or don’t stop. \n 
URL:https://ghostridermtb.com/event/tuesday-evening-don-valley-ride/
LOCATION:Loblaws Parking lot – Crothers Woods -Redway Rd\, Crothers Woods Trail\, Toronto\, On\, M4H 1P6\, Canada
CATEGORIES:Rides
ATTACH;FMTTYPE=image/jpeg:https://ghostridermtb.com/wp-content/uploads/2023/10/20230926_194356-scaled.jpg
END:VEVENT
BEGIN:VEVENT
DTSTART;TZID=America/Toronto:20231008T100000
DTEND;TZID=America/Toronto:20231008T130000
DTSTAMP:20260423T214017
CREATED:20231006T152109Z
LAST-MODIFIED:20231006T160331Z
UID:999-1696759200-1696770000@ghostridermtb.com
SUMMARY:Birthday Ride at Millbrook
DESCRIPTION:It’s Dawn’s birthday weekend ride! Heading to Millbrook for 10am start. \nMeet at Elgar parking lot :https://maps.app.goo.gl/7q8oBCyyc3Su8vA4A \nBring your own snacks and drinks for after the ride.
URL:https://ghostridermtb.com/event/birthday-ride-at-millbrook/
LOCATION:Millbrook\, Zion line\, Cavan-Monaghan\, ON\, L0A 1G0\, Canada
CATEGORIES:Rides
ATTACH;FMTTYPE=image/png:https://ghostridermtb.com/wp-content/uploads/2023/10/Screen-Shot-2023-10-06-at-10.34.29-AM.png
END:VEVENT
BEGIN:VEVENT
DTSTART;TZID=America/Toronto:20231009T100000
DTEND;TZID=America/Toronto:20231009T123000
DTSTAMP:20260423T214017
CREATED:20231006T152319Z
LAST-MODIFIED:20231009T025620Z
UID:1003-1696845600-1696854600@ghostridermtb.com
SUMMARY:Cancelled due to weather! Jefferson Forest Thanksgiving Monday Ride
DESCRIPTION:Cancelled due to Wet weather! \nRiding Jefferson Forest Thanksgiving Monday morning. \n 
URL:https://ghostridermtb.com/event/jefferson-forest-thanksgiving-monday-ride/
LOCATION:Jefferson Forest\, 1245 Bethesda Side Rd\, Richmond Hill\, Ontario\, L4E 1A2\, Canada
CATEGORIES:Rides
ATTACH;FMTTYPE=image/jpeg:https://ghostridermtb.com/wp-content/uploads/2023/04/IMG_20220716_151040_863.jpg
END:VEVENT
BEGIN:VEVENT
DTSTART;TZID=America/Toronto:20231014T100000
DTEND;TZID=America/Toronto:20231014T170000
DTSTAMP:20260423T214017
CREATED:20230927T125610Z
LAST-MODIFIED:20230927T125610Z
UID:986-1697277600-1697302800@ghostridermtb.com
SUMMARY:Mansfield Outdoor Centre Second Annual Open House
DESCRIPTION:October 14th will be a super fun day at Mansfield Outdoor Centre. It’s their Second Annual Open House and DCF/MOC Volunteer Appreciation Day. MOC trails and Facility access is free to everyone for the day. There is plenty of new trail and features since last year at MOC and many more to come.\nAnd to make it more fun\, MOC will be having their Hops in the Hills Festival on that day as well. This will include a fully stocked bar with plenty of local Craft Beer\, Cider and non-alcoholic beverages as well as a BBQ and Chilli for purchase. Add in live music from 12-5pm and we have the makings of a great day. Please mark this on your calendar and come out and join in celebrating the Volunteers that keep this 58km trail network running year round.\nTrails open at 10am and all non-members must check in at the Main Lodge.\nCamping and cabin rentals are available at MOC. For more info\, please go to:\nhttps://mansfieldoutdoorcentre.ca/accommodation/\nIf you plan on coming\, maybe post a cheers in comments and please share this around. Last year was over 350 people\, so let’s try and top that this year!
URL:https://ghostridermtb.com/event/mansfield-outdoor-centre-second-annual-open-house/
LOCATION:Mansfield Outdoor Centre\, 937365 Airport Rd\, Mulmur\, Ontario\, L9V 3T6\, Canada
CATEGORIES:Events
ATTACH;FMTTYPE=image/jpeg:https://ghostridermtb.com/wp-content/uploads/2023/09/20221022_140803.jpg
END:VEVENT
END:VCALENDAR