BEGIN:VCALENDAR
VERSION:2.0
PRODID:-//Ghost Rider MTB - ECPv6.15.14//NONSGML v1.0//EN
CALSCALE:GREGORIAN
METHOD:PUBLISH
X-ORIGINAL-URL:https://ghostridermtb.com
X-WR-CALDESC:Events for Ghost Rider MTB
REFRESH-INTERVAL;VALUE=DURATION:PT1H
X-Robots-Tag:noindex
X-PUBLISHED-TTL:PT1H
BEGIN:VTIMEZONE
TZID:America/Toronto
BEGIN:DAYLIGHT
TZOFFSETFROM:-0500
TZOFFSETTO:-0400
TZNAME:EDT
DTSTART:20220313T070000
END:DAYLIGHT
BEGIN:STANDARD
TZOFFSETFROM:-0400
TZOFFSETTO:-0500
TZNAME:EST
DTSTART:20221106T060000
END:STANDARD
BEGIN:DAYLIGHT
TZOFFSETFROM:-0500
TZOFFSETTO:-0400
TZNAME:EDT
DTSTART:20230312T070000
END:DAYLIGHT
BEGIN:STANDARD
TZOFFSETFROM:-0400
TZOFFSETTO:-0500
TZNAME:EST
DTSTART:20231105T060000
END:STANDARD
BEGIN:DAYLIGHT
TZOFFSETFROM:-0500
TZOFFSETTO:-0400
TZNAME:EDT
DTSTART:20240310T070000
END:DAYLIGHT
BEGIN:STANDARD
TZOFFSETFROM:-0400
TZOFFSETTO:-0500
TZNAME:EST
DTSTART:20241103T060000
END:STANDARD
END:VTIMEZONE
BEGIN:VEVENT
DTSTART;TZID=America/Toronto:20230904T100000
DTEND;TZID=America/Toronto:20230904T133000
DTSTAMP:20260423T231101
CREATED:20230826T204053Z
LAST-MODIFIED:20230829T205618Z
UID:928-1693821600-1693834200@ghostridermtb.com
SUMMARY:Three Stage rescheduled ride; long weekend Monday!
DESCRIPTION:Monday ride 10 am start. Expect 20 to 25Km \n Three Stage \nThree Stage North Parking lot: https://goo.gl/maps/mGgXTnknaMan1UNHA \nTrailforks Route: https://www.trailforks.com/route/3-stage-advanced-loop-corc/ \nThis is an Advanced ride. Challenge yourself on some of the best trails in the network. Experienced riders will appreciate the technical challenges of this route. Not beginner friendly. \nBring a chair\, snack or food & beverage for after the ride. \n  \n 
URL:https://ghostridermtb.com/event/three-stage-rescheduled-ride-long-weekend-monday/
LOCATION:Three Stage – North Parking lot\, https://goo.gl/maps/PG1t4Bt9MQvCqLrA9\, Town Of The Blue Mountains\, On\, N0H 2E0\, Canada
CATEGORIES:Rides
ATTACH;FMTTYPE=image/jpeg:https://ghostridermtb.com/wp-content/uploads/2023/07/20200905_114537.jpg
END:VEVENT
BEGIN:VEVENT
DTSTART;TZID=America/Toronto:20230910T100000
DTEND;TZID=America/Toronto:20230910T130000
DTSTAMP:20260423T231101
CREATED:20230907T185021Z
LAST-MODIFIED:20230907T185021Z
UID:950-1694340000-1694350800@ghostridermtb.com
SUMMARY:Jefferson Forest Schloppy-Secsea-Danny-Momma End of Summer Sunday ride
DESCRIPTION:We are riding at Jefferson Forest this Sunday @10am start from the Bethesda Side road Parking lot. \nParking: https://goo.gl/maps/i2UNectcscvKaZwy9 \nOur plan is to ride primarily the 4 sweetest trails in the forest IMHO (by sweet I mean hard & exciting\, black & double black rated only) \nPlease note\, Parking on the road can result in a $40+ ticket. If you can’t find parking\, Park at Lake Wilcox or The Community Center and ride over to the parking lot. \nThe trails should be in firm to hero dirt conditions. If not\, we will adjust accordingly. \nExpect a hard effort as this is an advanced ride. \nBring lots of water\, bug spray (the mozzies are still very hungry) \nBring a chair & beverage or snacks for after the ride.
URL:https://ghostridermtb.com/event/jefferson-forest-schloppy-secsea-danny-momma-end-of-summer-sunday-ride/
LOCATION:Jefferson Forest\, 1245 Bethesda Side Rd\, Richmond Hill\, Ontario\, L4E 1A2\, Canada
CATEGORIES:Rides
ATTACH;FMTTYPE=image/jpeg:https://ghostridermtb.com/wp-content/uploads/2023/04/IMG_20220716_151040_863.jpg
END:VEVENT
BEGIN:VEVENT
DTSTART;TZID=America/Toronto:20230917T100000
DTEND;TZID=America/Toronto:20230917T140000
DTSTAMP:20260423T231101
CREATED:20230409T213341Z
LAST-MODIFIED:20230908T145714Z
UID:648-1694944800-1694959200@ghostridermtb.com
SUMMARY:Harold Town Conservation Area Mountain Biking
DESCRIPTION:Fun ride at Harold Town. Expect 17Km \nhttps://www.trailforks.com/region/harold-town-conservation-area/ \nThis is a intermediate to advanced ride. \nParking: https://goo.gl/maps/wgrYX4NbH9UhA9gV8 \nBring a chair\, snacks & beverage for after the ride. \nThere are food places approx 15 minutes back towards the city if one wishes for something more to eat. \n 
URL:https://ghostridermtb.com/event/waterdown/
LOCATION:Ontario
CATEGORIES:Rides
ATTACH;FMTTYPE=image/jpeg:https://ghostridermtb.com/wp-content/uploads/2023/03/cropped-homepage-scaled-1.jpg
END:VEVENT
BEGIN:VEVENT
DTSTART;TZID=America/Toronto:20230919T113000
DTEND;TZID=America/Toronto:20230919T133000
DTSTAMP:20260423T231101
CREATED:20230918T203447Z
LAST-MODIFIED:20230918T213824Z
UID:964-1695123000-1695130200@ghostridermtb.com
SUMMARY:The Hydrocut - Tuesday ride
DESCRIPTION:Tuesday 19th Sep Hydrocut ride.\n\n11:30 am start. Expect 20Km \nhttps://www.trailforks.com/region/the-hydrocut/ \nThis is a intermediate to advanced ride. \nParking at : WCC Hydrocut Trails Pine’s Entrance \nhttps://goo.gl/maps/SKv2rBZcw51xc2vt5 \nBring a chair & beverage for after the ride
URL:https://ghostridermtb.com/event/the-hydrocut-tuesday-ride/
LOCATION:The Hydrocut – Pines Parking Lot\, 1910 Snyder's Rd E\, Petersburg\, On\, N0B 2H0\, Canada
CATEGORIES:Rides
ATTACH;FMTTYPE=image/jpeg:https://ghostridermtb.com/wp-content/uploads/2023/07/20230521_110402.jpg
END:VEVENT
BEGIN:VEVENT
DTSTART;TZID=America/Toronto:20230924T100000
DTEND;TZID=America/Toronto:20230924T120000
DTSTAMP:20260423T231101
CREATED:20230918T204035Z
LAST-MODIFIED:20230918T204035Z
UID:966-1695549600-1695556800@ghostridermtb.com
SUMMARY:Jefferson Forest - Sunday morning ride
DESCRIPTION:We are riding Jefferson Forest on Sunday. \nStarting  10:00am from Bethesda side Rd parking lot. \nParking: https://maps.app.goo.gl/2yGTDcuVUARG6YKQ7 \nExpect dust\, bushy\, damp &/or hero dirt conditions\, mosquitos are still alive and chasing. \n90 to 120 minutes\, 20 to 30km of mixed green to black diamond rated trails. All weather and ground condition dependent. \nBring a chair\, snack and a beverage for after the ride.
URL:https://ghostridermtb.com/event/jefferson-forest-sunday-morning-ride/
LOCATION:Jefferson Forest\, 1245 Bethesda Side Rd\, Richmond Hill\, Ontario\, L4E 1A2\, Canada
CATEGORIES:Rides
ATTACH;FMTTYPE=image/jpeg:https://ghostridermtb.com/wp-content/uploads/2023/04/IMG_20220716_151040_863.jpg
END:VEVENT
BEGIN:VEVENT
DTSTART;TZID=America/Toronto:20230930T100000
DTEND;TZID=America/Toronto:20230930T130000
DTSTAMP:20260423T231101
CREATED:20230926T185448Z
LAST-MODIFIED:20230926T185448Z
UID:982-1696068000-1696078800@ghostridermtb.com
SUMMARY:Kitchen Sink Saturday Ride
DESCRIPTION:Saturday morning\, 30th Sept ride. \nKitchen sink from the north heading south and back. \nhttps://www.trailforks.com/trails/kitchen-sink-61354/ \n10am start from Lawrence & Don Valley parking lot (S-E corner) \nMilne House Parking Lot: https://maps.app.goo.gl/PvMPkhtWZxyzyTMs8 \nExpect dust\, bushy\, damp &/or hero dirt conditions\, mosquitos are still alive and chasing. \n90 to 120 minutes\, 25 to 30 km of mixed green to black diamond rated trails. All weather and ground condition dependent. Temps should be around 21 C so no freezer burn yet. \nBring a chair\, snack and a beverage for after the ride. There is very little food purchase in the vicinity.
URL:https://ghostridermtb.com/event/kitchen-sink-saturday-ride/
LOCATION:Milne House – Lawrence & DVP\, Milne Hollow\, E Don Trail\, North York\, Ontario\, M3A\, Canada
CATEGORIES:Rides
ATTACH;FMTTYPE=image/jpeg:https://ghostridermtb.com/wp-content/uploads/2023/09/20221011_183703.jpg
END:VEVENT
END:VCALENDAR