BEGIN:VCALENDAR
VERSION:2.0
PRODID:-//Ghost Rider MTB - ECPv6.15.14//NONSGML v1.0//EN
CALSCALE:GREGORIAN
METHOD:PUBLISH
X-ORIGINAL-URL:https://ghostridermtb.com
X-WR-CALDESC:Events for Ghost Rider MTB
REFRESH-INTERVAL;VALUE=DURATION:PT1H
X-Robots-Tag:noindex
X-PUBLISHED-TTL:PT1H
BEGIN:VTIMEZONE
TZID:America/Toronto
BEGIN:DAYLIGHT
TZOFFSETFROM:-0500
TZOFFSETTO:-0400
TZNAME:EDT
DTSTART:20220313T070000
END:DAYLIGHT
BEGIN:STANDARD
TZOFFSETFROM:-0400
TZOFFSETTO:-0500
TZNAME:EST
DTSTART:20221106T060000
END:STANDARD
BEGIN:DAYLIGHT
TZOFFSETFROM:-0500
TZOFFSETTO:-0400
TZNAME:EDT
DTSTART:20230312T070000
END:DAYLIGHT
BEGIN:STANDARD
TZOFFSETFROM:-0400
TZOFFSETTO:-0500
TZNAME:EST
DTSTART:20231105T060000
END:STANDARD
BEGIN:DAYLIGHT
TZOFFSETFROM:-0500
TZOFFSETTO:-0400
TZNAME:EDT
DTSTART:20240310T070000
END:DAYLIGHT
BEGIN:STANDARD
TZOFFSETFROM:-0400
TZOFFSETTO:-0500
TZNAME:EST
DTSTART:20241103T060000
END:STANDARD
END:VTIMEZONE
BEGIN:VEVENT
DTSTART;TZID=America/Toronto:20230601T180000
DTEND;TZID=America/Toronto:20230601T200000
DTSTAMP:20260424T033258
CREATED:20230531T032238Z
LAST-MODIFIED:20230531T133725Z
UID:804-1685642400-1685649600@ghostridermtb.com
SUMMARY:Warden Woods Ride starting from ET Seton Area #2 parking
DESCRIPTION:Thursday afternoon ride from ET Seton Park Area #2 parking lot \nhttps://goo.gl/maps/FpR68qWhvFDpkpSTA \nExploration of the Warden Woods trail system & a new trail ride. \nhttps://www.trailforks.com/region/warden-woods-14296/trails/ \nStarting from ET Seton area #2 heading East through Taylor creek (maybe hit a few trails) than across roads to Warden Woods. \nStart time 6:00pm \nRoute is up head North on the West side to St Clair then south on the East side \nDifficulty: Low\, moderate & 1 very technical\, exposed trail. Exposure\, narrow trails\, skinnies\, technical climbs\, bridges \nMeetup location: ET Seton Park Area #2 parking lot\nTime: 6:00pm \nNote:\nIt’s going to be a warm one so bring lots of water. \nIt’s also mozzy season… and they’re ravenous! Unless you plan on feeding them\, apply your bug spray. No\, really! Lots of OFF or Pi Active.
URL:https://ghostridermtb.com/event/warden-woods-ride-starting-from-et-seton-area-2-parking/
LOCATION:Ontario
CATEGORIES:Rides
ATTACH;FMTTYPE=image/jpeg:https://ghostridermtb.com/wp-content/uploads/2023/04/20220507_115900_002-scaled-e1681155564832.jpg
END:VEVENT
BEGIN:VEVENT
DTSTART;TZID=America/Toronto:20230604T100000
DTEND;TZID=America/Toronto:20230604T140000
DTSTAMP:20260424T033258
CREATED:20230409T204407Z
LAST-MODIFIED:20230531T163902Z
UID:614-1685872800-1685887200@ghostridermtb.com
SUMMARY:Sandy's best trails in Copeland Forest ride!
DESCRIPTION:Sunday ride at Copeland Forest. 10 am start. Expect 20 to 30km. \nLed by Sandy\, promised all the best trails in the forest in one continuous loop.. \nhttps://www.trailforks.com/region/copeland-forest/ \nThis is a intermediate to advanced ride. Route TBD by Sandy. \nParking at : P4 on Line 5 \nhttps://www.trailforks.com/poi/13865/ \nor \nhttps://goo.gl/maps/kKEH6ciTM8etSXwu7 \nNote:\nIt’s going to be a warm one so bring lots of water. \nIt’s also mozzy season… and they’re ravenous! Unless you plan on feeding them\, apply your bug spray. \nRain Date: 11th June
URL:https://ghostridermtb.com/event/copeland-forest/
LOCATION:Copeland Forest Trailhead – Horseshoe Nordic Center\, 1106 Horseshoe Valley Rd W\, Barrie\, On\, L4M 4Y8\, Canada
ATTACH;FMTTYPE=image/jpeg:https://ghostridermtb.com/wp-content/uploads/2023/04/20220806_144602-scaled.jpg
END:VEVENT
BEGIN:VEVENT
DTSTART;TZID=America/Toronto:20230606T183000
DTEND;TZID=America/Toronto:20230606T203000
DTSTAMP:20260424T033258
CREATED:20230605T181440Z
LAST-MODIFIED:20230605T181440Z
UID:815-1686076200-1686083400@ghostridermtb.com
SUMMARY:Tuesday afternoon ride - Roller Flowster - Trash Panda circuit
DESCRIPTION:Tuesday afternoon ride from Serena Gundy parking \nRelaxed ride to Roller Flowster & Trash Panda. \nStart time 6:30pm \nRoute is general but not specifically fixed yet. \nGundy Trails\, Secret Hidden to Roller Flowster\, maybe 5 & 6 play \, across apples to Panda \nTwo Meeting locations: \n\nSerena Gundy: start 6:30 sharp\n\n-Gundy Trails\, Secret Hidden to Roller Flowster \n2. Roller Flowster: 7pm-ish \nDifficulty: Moderate to difficult ie exposure\, narrow trails\, skinnies\, technical climbs\, bridges \nNote:\nIt’s going to be a 23 Celsius day\, warm one so bring ample water. \nIt’s also mozzy season… and they’re ravenous! Unless you plan on feeding them\, apply your bug spray.
URL:https://ghostridermtb.com/event/tuesday-afternoon-ride-roller-flowster-trash-panda-circuit/
LOCATION:Serena Gundy Parking Lot\, 58 Rykert Crescent\, Toronto\, Ontario\, M4G 2S9\, Canada
CATEGORIES:Rides
ATTACH;FMTTYPE=image/jpeg:https://ghostridermtb.com/wp-content/uploads/2023/03/20230307_202037-1.jpg
END:VEVENT
BEGIN:VEVENT
DTSTART;TZID=America/Toronto:20230608T183000
DTEND;TZID=America/Toronto:20230608T201500
DTSTAMP:20260424T033258
CREATED:20230605T182144Z
LAST-MODIFIED:20230608T220747Z
UID:817-1686249000-1686255300@ghostridermtb.com
SUMMARY:Postponed!!Andre's Thursday Topo to B.O.T. ride series #1 of 5 CHANGE NOTICE !!!!
DESCRIPTION:Thursday afternoon ride from Loblaws Parking lot #1 of 5. \nStarting to rain at Loblaws\, 6:05pm. Ride is postponed.. \nRoute is general but not specifically fixed yet. \nEast through Sanitation Plant\, The Ridge\, Topo\, Catalyst\, Party Atmosphere\, Party Down (Aka BOT)\, South on Bunny Run\, then  we will see. \nLoblaws Parking Lot (Redway Road) meet up Route: \n3 Rocks/Sanitation/Ridge to Cricket Tree \nDifficulty: moderate. Technical climbs/descents. \nMeetup location 2: Cricket Tree\nTime: 6:30 – 6:35pm\nRoute: Topo/Catalyst/PA/Bunny Run/Flats back to 3 Rocks. \nDifficulty: Moderate to difficult ie exposure\, narrow trails\, skinnies\, technical climbs\, bridges \nNote:\nIt’s going to be a 19 Celsius Cool day so bring ample of water. \nIt’s also mozzy season… and they’re ravenous! Unless you plan on feeding them\, apply your bug spray.
URL:https://ghostridermtb.com/event/andres-thursday-topo-to-b-o-t-ride-series-1-of-5/
LOCATION:Loblaws Parking lot – Crothers Woods -Redway Rd\, Crothers Woods Trail\, Toronto\, On\, M4H 1P6\, Canada
CATEGORIES:Rides
ATTACH;FMTTYPE=image/jpeg:https://ghostridermtb.com/wp-content/uploads/2023/05/20230511_175702-scaled.jpg
END:VEVENT
BEGIN:VEVENT
DTSTART;TZID=America/Toronto:20230611T100000
DTEND;TZID=America/Toronto:20230611T120000
DTSTAMP:20260424T033258
CREATED:20230609T160323Z
LAST-MODIFIED:20230609T161940Z
UID:826-1686477600-1686484800@ghostridermtb.com
SUMMARY:Jefferson Forest Sunday Ride - Random Ride Notification
DESCRIPTION:Sunday Ride at Jefferson Forest- 10 am start. Expect 15 – 20 Km \nhttps://www.trailforks.com/region/jefferson-forest/ \nThis is an intermediate to advanced ride. \nParking at : https://goo.gl/maps/Rko8LhXSd6EgA8j98 \nAlternate parking: West end of Bethesda Side Rd in the Lake Wilcox lot (Parking fee applies) \nBring a chair & beverage for after the ride \n 
URL:https://ghostridermtb.com/event/jefferson-forest-sunday-ride/
LOCATION:Jefferson Forest\, 1245 Bethesda Side Rd\, Richmond Hill\, Ontario\, L4E 1A2\, Canada
CATEGORIES:Rides
ATTACH;FMTTYPE=image/jpeg:https://ghostridermtb.com/wp-content/uploads/2023/04/IMG_20220716_151040_863.jpg
END:VEVENT
BEGIN:VEVENT
DTSTART;TZID=America/Toronto:20230613T173000
DTEND;TZID=America/Toronto:20230613T193000
DTSTAMP:20260424T033258
CREATED:20230613T182700Z
LAST-MODIFIED:20230613T182700Z
UID:832-1686677400-1686684600@ghostridermtb.com
SUMMARY:Tuesday Afternoon Ride from Loblaws 5:30 start
DESCRIPTION:Tuesday afternoon ride from Loblaws parking lot on Redway Rd \nRelaxed ride to the Ridge\, and from Cricket tree we will decide based on conditions. Probably return path includes the Southern Flats trail. \nStart time 5:30pm \nThe rain from Sunday & Monday will have the trails in moist to tacky earth conditions. Slippery places & wet wood presents hazardous riding. Ride within your limit. \nDifficulty: Moderate to difficult ie exposure\, narrow trails\, skinnies\, technical climbs\, bridges \nNote:\nIt’s going to be a 20 Celsius day\, so bring ample water. \nIt’s also mozzy season… and they’re STILL ravenous! Unless you plan on feeding them\, apply your bug spray.
URL:https://ghostridermtb.com/event/tuesday-afternoon-ride-from-loblaws-530-start/
LOCATION:Loblaws Parking lot – Crothers Woods -Redway Rd\, Crothers Woods Trail\, Toronto\, On\, M4H 1P6\, Canada
CATEGORIES:Rides
ATTACH;FMTTYPE=image/jpeg:https://ghostridermtb.com/wp-content/uploads/2023/04/20220420_174100_002-scaled.jpg
END:VEVENT
BEGIN:VEVENT
DTSTART;TZID=America/Toronto:20230615T181500
DTEND;TZID=America/Toronto:20230615T200000
DTSTAMP:20260424T033258
CREATED:20230609T142615Z
LAST-MODIFIED:20230615T170041Z
UID:824-1686852900-1686859200@ghostridermtb.com
SUMMARY:POSTPONED- Again!!! -Andre’s Thursday Topo to B.O.T. ride series #1 of 5
DESCRIPTION:POSTPONED- Again!!! – New date TBD. \nThursday afternoon ride from Loblaws Parking lot #1 of 5. \nRoute is general but not specifically fixed yet. \nEast through Sanitation Plant\, The Ridge\, Topo\, Catalyst\, Party Atmosphere\, Party Down (Aka BOT)\, South on Bunny Run\, then  we will see. \nLoblaws Parking Lot (Redway Road) meet up Route: \n3 Rocks/Sanitation/Ridge to Cricket Tree \nDifficulty: moderate. Technical climbs/descents. \nMeetup location 2: Cricket Tree\nTime: 6:30 – 6:35pm\nRoute: Topo/Catalyst/PA/Bunny Run/Flats back to 3 Rocks. \nDifficulty: Moderate to difficult ie exposure\, narrow trails\, skinnies\, technical climbs\, bridges \nNote:\nIt’s going to be test of a ride so bring ample of water. \nIt’s also mozzy season… and they’re ravenous! Unless you plan on feeding them\, apply your bug spray.
URL:https://ghostridermtb.com/event/andres-thursday-topo-to-b-o-t-ride-series-1-of-5-2/
LOCATION:Loblaws Parking lot – Crothers Woods -Redway Rd\, Crothers Woods Trail\, Toronto\, On\, M4H 1P6\, Canada
ATTACH;FMTTYPE=image/jpeg:https://ghostridermtb.com/wp-content/uploads/2023/04/20220420_174100_002-scaled.jpg
END:VEVENT
BEGIN:VEVENT
DTSTART;TZID=America/Toronto:20230618T100000
DTEND;TZID=America/Toronto:20230618T133000
DTSTAMP:20260424T033258
CREATED:20230409T205303Z
LAST-MODIFIED:20230409T205417Z
UID:619-1687082400-1687095000@ghostridermtb.com
SUMMARY:Bracebridge - Resource Management Centre - BRMC
DESCRIPTION:Sunday Ride at BRMC – 10 am start. Expect 15Km \nhttps://www.trailforks.com/region/resource-management-centre/ \nThis is an advanced ride. \nParking at : https://goo.gl/maps/Rko8LhXSd6EgA8j98 \nBring a chair & beverage for after the ride \nRain Date: 25th June
URL:https://ghostridermtb.com/event/bracebridge-resource-management-centre-brmc/
LOCATION:BRMC – South Lot Map
CATEGORIES:Rides
END:VEVENT
BEGIN:VEVENT
DTSTART;TZID=America/Toronto:20230622T180000
DTEND;TZID=America/Toronto:20230622T203000
DTSTAMP:20260424T033258
CREATED:20230622T140012Z
LAST-MODIFIED:20230622T140353Z
UID:841-1687456800-1687465800@ghostridermtb.com
SUMMARY:Andre’s RANDOM Thursday Topo to B.O.T. ride series #1 of 5
DESCRIPTION:Thursday afternoon ride from Loblaws Parking lot #1 of 5. Start time – 6pm ish.. \nRoute is general but not specifically fixed yet. \nEast through Sanitation Plant\, The Ridge\, Topo\, Catalyst\, Party Atmosphere\, Party Down (Aka BOT)\, South on Bunny Run\, then  we will see. \nMeetup location 1: Loblaws Parking Lot (Redway Road) Route: \n3 Rocks/Sanitation/Ridge to Cricket Tree \nDifficulty: moderate. Technical climbs/descents. \nMeetup location 2: Cricket Tree\nTime: 6:30– 6:35pm ish\nRoute: Topo/Catalyst/PA/Bunny Run/Flats back to 3 Rocks. \nDifficulty: Moderate to difficult ie exposure\, narrow trails\, skinnies\, technical climbs\, bridges \nNote:\nIt’s STILL mozzy season… and they’re ravenous! Unless you plan on feeding them\, apply your bug spray.
URL:https://ghostridermtb.com/event/andres-random-thursday-topo-to-b-o-t-ride-series-1-of-5/
LOCATION:Loblaws Parking lot – Crothers Woods -Redway Rd\, Crothers Woods Trail\, Toronto\, On\, M4H 1P6\, Canada
CATEGORIES:Rides
ATTACH;FMTTYPE=image/jpeg:https://ghostridermtb.com/wp-content/uploads/2023/05/20230511_175702-scaled.jpg
END:VEVENT
BEGIN:VEVENT
DTSTART;TZID=America/Toronto:20230625T093000
DTEND;TZID=America/Toronto:20230625T113000
DTSTAMP:20260424T033258
CREATED:20230625T001231Z
LAST-MODIFIED:20230625T003830Z
UID:844-1687685400-1687692600@ghostridermtb.com
SUMMARY:Random Ride Notification - Jefferson Forest Sunday Morning ride
DESCRIPTION:Relaxed ride through Jefferson Forest \nStarting from Bethesda Side Road Parking lot\, Expect 20km depending on conditions. \nMeeting time 9:30am \nThe rain from Friday & Saturday will mean the trails are moist to tacky earth conditions. Slippery places & wet wood presents hazardous riding. Ride within your limit. \nDifficulty: Moderate to difficult\, ie exposure\, narrow trails\, skinnies\, technical climbs. \nNote: \nIt’s  mozzy season… and they’re STILL ravenous! Unless you plan on feeding them\, apply your bug spray.
URL:https://ghostridermtb.com/event/random-ride-notification-jefferson-forest-sunday-morning-ride/
LOCATION:Jefferson Forest\, 1245 Bethesda Side Rd\, Richmond Hill\, Ontario\, L4E 1A2\, Canada
CATEGORIES:Rides
ATTACH;FMTTYPE=image/jpeg:https://ghostridermtb.com/wp-content/uploads/2023/04/IMG_20220716_151040_863.jpg
END:VEVENT
BEGIN:VEVENT
DTSTART;TZID=America/Toronto:20230629T080000
DTEND;TZID=America/Toronto:20230701T170000
DTSTAMP:20260424T033258
CREATED:20230409T205855Z
LAST-MODIFIED:20230627T005406Z
UID:623-1688025600-1688230800@ghostridermtb.com
SUMMARY:Hiawatha Highlands - Sault Ste Marie
DESCRIPTION:https://www.trailforks.com/region/hiawatha-highlands/?activitytype=1&z=13.7&lat=46.58452&lon=-84.28292 \nWe’re off to Hiawatha Highlands in Sault Ste Marie for the Canada Day long weekend. \nWe are watching the weather & plan to ride Hiawatha on Thursday & Friday from 10 am-ish onwards. Splitting the rides into 2 separate days gives us time to explore the East & then West side trails at a leisurely pace. \nAnyone interested in joining in or guiding through the best trails is welcome. \nParking at one of the two following locations: \nHiawatha Highlands Mountain Biking – Crystal Trailhead\nSault Ste. Marie\, ON P6A 6J8\n\nhttps://goo.gl/maps/Tgr55Er1ivZYJqEB6 \nor \nhttps://goo.gl/maps/pQmdSSi2ZHVXVpAX9 \n  \n\n \n 
URL:https://ghostridermtb.com/event/hiawatha-highlands-sault-ste-marie/
LOCATION:Ontario
CATEGORIES:Rides
ATTACH;FMTTYPE=image/jpeg:https://ghostridermtb.com/wp-content/uploads/2023/04/Thumb-004-scaled.jpg
END:VEVENT
END:VCALENDAR