BEGIN:VCALENDAR
VERSION:2.0
PRODID:-//Ghost Rider MTB - ECPv6.15.14//NONSGML v1.0//EN
CALSCALE:GREGORIAN
METHOD:PUBLISH
X-WR-CALNAME:Ghost Rider MTB
X-ORIGINAL-URL:https://ghostridermtb.com
X-WR-CALDESC:Events for Ghost Rider MTB
REFRESH-INTERVAL;VALUE=DURATION:PT1H
X-Robots-Tag:noindex
X-PUBLISHED-TTL:PT1H
BEGIN:VTIMEZONE
TZID:America/Toronto
BEGIN:DAYLIGHT
TZOFFSETFROM:-0500
TZOFFSETTO:-0400
TZNAME:EDT
DTSTART:20240310T070000
END:DAYLIGHT
BEGIN:STANDARD
TZOFFSETFROM:-0400
TZOFFSETTO:-0500
TZNAME:EST
DTSTART:20241103T060000
END:STANDARD
BEGIN:DAYLIGHT
TZOFFSETFROM:-0500
TZOFFSETTO:-0400
TZNAME:EDT
DTSTART:20250309T070000
END:DAYLIGHT
BEGIN:STANDARD
TZOFFSETFROM:-0400
TZOFFSETTO:-0500
TZNAME:EST
DTSTART:20251102T060000
END:STANDARD
BEGIN:DAYLIGHT
TZOFFSETFROM:-0500
TZOFFSETTO:-0400
TZNAME:EDT
DTSTART:20260308T070000
END:DAYLIGHT
BEGIN:STANDARD
TZOFFSETFROM:-0400
TZOFFSETTO:-0500
TZNAME:EST
DTSTART:20261101T060000
END:STANDARD
END:VTIMEZONE
BEGIN:VEVENT
DTSTART;TZID=America/Toronto:20250830T100000
DTEND;TZID=America/Toronto:20250830T140000
DTSTAMP:20260423T162346
CREATED:20250422T191254Z
LAST-MODIFIED:20250825T163125Z
UID:1625-1756548000-1756562400@ghostridermtb.com
SUMMARY:Long Weekend Saturday Dagmar North Ride
DESCRIPTION:Hitting the Dagmar North trails on  the Long Weekend Saturday \nDate: Saturday\, August 30th \nTime: 10AM start from Trail Hub \nhttps://www.trailforks.com/region/dagmar-north-trails/ \nDagmar north is a fast & furious trail ride. The famous “Skin & Bones trail” waits for those advanced riders that wish to tear through it. Intermediate riders have the opportunity to advance their skills. \nThis is a intermediate to advanced ride. \nWe park at the Trail Hub then head over to Dagmar North. \nParking: https://maps.app.goo.gl/mswNJT4ZkEbNhXSJ9 \nThe Trail Hub has a really nice food service & a great back porch to enjoy an after ride beverage…
URL:https://ghostridermtb.com/event/long-weekend-saturday-dagmar-north/
LOCATION:Dagmar North\, 1681 Concession Rd 7\, Uxbridge\, On\, L9P 1R4\, Canada
CATEGORIES:Rides
ATTACH;FMTTYPE=image/jpeg:https://ghostridermtb.com/wp-content/uploads/2024/04/VID_20230415_104621_00_003_2023-04-16_08-15-52_screenshot.jpg
END:VEVENT
END:VCALENDAR