BEGIN:VCALENDAR
VERSION:2.0
PRODID:-//Ghost Rider MTB - ECPv6.15.14//NONSGML v1.0//EN
CALSCALE:GREGORIAN
METHOD:PUBLISH
X-ORIGINAL-URL:https://ghostridermtb.com
X-WR-CALDESC:Events for Ghost Rider MTB
REFRESH-INTERVAL;VALUE=DURATION:PT1H
X-Robots-Tag:noindex
X-PUBLISHED-TTL:PT1H
BEGIN:VTIMEZONE
TZID:America/Toronto
BEGIN:DAYLIGHT
TZOFFSETFROM:-0500
TZOFFSETTO:-0400
TZNAME:EDT
DTSTART:20240310T070000
END:DAYLIGHT
BEGIN:STANDARD
TZOFFSETFROM:-0400
TZOFFSETTO:-0500
TZNAME:EST
DTSTART:20241103T060000
END:STANDARD
BEGIN:DAYLIGHT
TZOFFSETFROM:-0500
TZOFFSETTO:-0400
TZNAME:EDT
DTSTART:20250309T070000
END:DAYLIGHT
BEGIN:STANDARD
TZOFFSETFROM:-0400
TZOFFSETTO:-0500
TZNAME:EST
DTSTART:20251102T060000
END:STANDARD
BEGIN:DAYLIGHT
TZOFFSETFROM:-0500
TZOFFSETTO:-0400
TZNAME:EDT
DTSTART:20260308T070000
END:DAYLIGHT
BEGIN:STANDARD
TZOFFSETFROM:-0400
TZOFFSETTO:-0500
TZNAME:EST
DTSTART:20261101T060000
END:STANDARD
END:VTIMEZONE
BEGIN:VEVENT
DTSTART;TZID=America/Toronto:20250804T100000
DTEND;TZID=America/Toronto:20250804T140000
DTSTAMP:20260423T094505
CREATED:20250422T190333Z
LAST-MODIFIED:20250803T211847Z
UID:1621-1754301600-1754316000@ghostridermtb.com
SUMMARY:Haf'ta ride Halton Region Agreement Forest (HAFTA Trails)
DESCRIPTION:Holiday  Ride at HAFTA – 10 am start. Expect 15 – 25Km \nhttps://www.trailforks.com/region/halton-region-agreement-forest-hafta-trails/ \nThis is an advanced ride!!!!!!!!!!!!!!!! \nhttps://www.trailforks.com/route/cs-halton-advanced-route/ \nParking: https://maps.app.goo.gl/CMTHurVCjBVCEmBs9 \nhttps://www.trailforks.com/tracker/map/?ping=43.498761\,-79.999161 \nBring a chair & beverage for after the ride \nBring Bug spray & sunscreen \nRain Date: TBD
URL:https://ghostridermtb.com/event/hafta-ride-halton-region-agreement-forest-hafta-trails/
LOCATION:HAFTA\, 10125 Fourth Line Nassagaweya\, Campbellville\, On\, L0P 1B0\, Canada
CATEGORIES:Rides
ATTACH;FMTTYPE=image/jpeg:https://ghostridermtb.com/wp-content/uploads/2024/03/Screenshot_2.jpg
END:VEVENT
END:VCALENDAR