BEGIN:VCALENDAR
VERSION:2.0
PRODID:-//Ghost Rider MTB - ECPv6.15.14//NONSGML v1.0//EN
CALSCALE:GREGORIAN
METHOD:PUBLISH
X-WR-CALNAME:Ghost Rider MTB
X-ORIGINAL-URL:https://ghostridermtb.com
X-WR-CALDESC:Events for Ghost Rider MTB
REFRESH-INTERVAL;VALUE=DURATION:PT1H
X-Robots-Tag:noindex
X-PUBLISHED-TTL:PT1H
BEGIN:VTIMEZONE
TZID:America/Toronto
BEGIN:DAYLIGHT
TZOFFSETFROM:-0500
TZOFFSETTO:-0400
TZNAME:EDT
DTSTART:20230312T070000
END:DAYLIGHT
BEGIN:STANDARD
TZOFFSETFROM:-0400
TZOFFSETTO:-0500
TZNAME:EST
DTSTART:20231105T060000
END:STANDARD
BEGIN:DAYLIGHT
TZOFFSETFROM:-0500
TZOFFSETTO:-0400
TZNAME:EDT
DTSTART:20240310T070000
END:DAYLIGHT
BEGIN:STANDARD
TZOFFSETFROM:-0400
TZOFFSETTO:-0500
TZNAME:EST
DTSTART:20241103T060000
END:STANDARD
BEGIN:DAYLIGHT
TZOFFSETFROM:-0500
TZOFFSETTO:-0400
TZNAME:EDT
DTSTART:20250309T070000
END:DAYLIGHT
BEGIN:STANDARD
TZOFFSETFROM:-0400
TZOFFSETTO:-0500
TZNAME:EST
DTSTART:20251102T060000
END:STANDARD
END:VTIMEZONE
BEGIN:VEVENT
DTSTART;TZID=America/Toronto:20241020T100000
DTEND;TZID=America/Toronto:20241020T130000
DTSTAMP:20260423T062704
CREATED:20241016T191939Z
LAST-MODIFIED:20241016T194313Z
UID:1512-1729418400-1729429200@ghostridermtb.com
SUMMARY:Mono Cliffs Fall Colours Ride
DESCRIPTION:Heading to Mono Cliffs for a Sunday ride. A good place to ride through the leaves and check out the Fall colours. \nDate & Time:  Sunday\, October 20th\, 10am start \nTrailforks parking location: We are parking at the most southern parking lot. \nhttps://www.trailforks.com/poi/5067/ \nGoogle Maps parking location: \nhttps://maps.app.goo.gl/mwEhZBt8y9bwkosb6 \nThe weather calls for 19 C\, should be a shorts & sleeves ride. \nBring a beverage\, snacks & a Chair for after the ride.
URL:https://ghostridermtb.com/event/mono-cliffs-fall-colours-ride/
LOCATION:Mono Cliffs Provincial Park\, 754507-754519 Dufferin County Rd 8\, Orangeville\, Ontario\, L9W 2Y8\, Canada
CATEGORIES:Rides
ATTACH;FMTTYPE=image/jpeg:https://ghostridermtb.com/wp-content/uploads/2024/03/Screenshot_0.jpg
END:VEVENT
END:VCALENDAR