BEGIN:VCALENDAR
VERSION:2.0
PRODID:-//Ghost Rider MTB - ECPv6.15.14//NONSGML v1.0//EN
CALSCALE:GREGORIAN
METHOD:PUBLISH
X-ORIGINAL-URL:https://ghostridermtb.com
X-WR-CALDESC:Events for Ghost Rider MTB
REFRESH-INTERVAL;VALUE=DURATION:PT1H
X-Robots-Tag:noindex
X-PUBLISHED-TTL:PT1H
BEGIN:VTIMEZONE
TZID:America/Toronto
BEGIN:DAYLIGHT
TZOFFSETFROM:-0500
TZOFFSETTO:-0400
TZNAME:EDT
DTSTART:20230312T070000
END:DAYLIGHT
BEGIN:STANDARD
TZOFFSETFROM:-0400
TZOFFSETTO:-0500
TZNAME:EST
DTSTART:20231105T060000
END:STANDARD
BEGIN:DAYLIGHT
TZOFFSETFROM:-0500
TZOFFSETTO:-0400
TZNAME:EDT
DTSTART:20240310T070000
END:DAYLIGHT
BEGIN:STANDARD
TZOFFSETFROM:-0400
TZOFFSETTO:-0500
TZNAME:EST
DTSTART:20241103T060000
END:STANDARD
BEGIN:DAYLIGHT
TZOFFSETFROM:-0500
TZOFFSETTO:-0400
TZNAME:EDT
DTSTART:20250309T070000
END:DAYLIGHT
BEGIN:STANDARD
TZOFFSETFROM:-0400
TZOFFSETTO:-0500
TZNAME:EST
DTSTART:20251102T060000
END:STANDARD
END:VTIMEZONE
BEGIN:VEVENT
DTSTART;TZID=America/Toronto:20241019T193000
DTEND;TZID=America/Toronto:20241019T213000
DTSTAMP:20260421T044221
CREATED:20240909T151520Z
LAST-MODIFIED:20240909T151520Z
UID:1500-1729366200-1729373400@ghostridermtb.com
SUMMARY:Halloween "Doom" Valley Spooktacular Night ride - Weather permitting
DESCRIPTION:Halloween “Doom” Valley/ Don Valley night ride!! \nThis year the spooktacular roll through the valley of horror might be weather permitting\, the rainy weather has persisted all summer. \nWe still ride\, Halloween Saturday night\, October 19th\, Don Valley trails… Starting at 7:30pm sharp. If you are late you will be left to the ghosts of the valley! \nStarting from the Loblaws parking lot\,\n-night time\,\n-bring good lights\,\n-wear a costume\,\n-bring post ride treats\,\n-bring an umbrella (maybe)…… \nShould be a good time. If you know how to contact me privately\, we can fix up. \nTemp might be down between 6° & -1°\, maybe with a little rain.. \nPerfect for a quick Sun Valley ride. We will adapt the route difficulty & distance depending on the weather. \nStay safe! Be good do better! \nStress less\, ride more! \nYes\, I’m talking to you…..
URL:https://ghostridermtb.com/event/halloween-doom-valley-spooktacular-night-ride-weather-permitting/
LOCATION:Loblaws Parking lot – Crothers Woods -Redway Rd\, Crothers Woods Trail\, Toronto\, On\, M4H 1P6\, Canada
CATEGORIES:Events,Rides
ATTACH;FMTTYPE=image/jpeg:https://ghostridermtb.com/wp-content/uploads/2024/09/Ghost-Rider-Halloween-2024.jpg
END:VEVENT
END:VCALENDAR