BEGIN:VCALENDAR
VERSION:2.0
PRODID:-//Ghost Rider MTB - ECPv6.15.14//NONSGML v1.0//EN
CALSCALE:GREGORIAN
METHOD:PUBLISH
X-ORIGINAL-URL:https://ghostridermtb.com
X-WR-CALDESC:Events for Ghost Rider MTB
REFRESH-INTERVAL;VALUE=DURATION:PT1H
X-Robots-Tag:noindex
X-PUBLISHED-TTL:PT1H
BEGIN:VTIMEZONE
TZID:America/Toronto
BEGIN:DAYLIGHT
TZOFFSETFROM:-0500
TZOFFSETTO:-0400
TZNAME:EDT
DTSTART:20230312T070000
END:DAYLIGHT
BEGIN:STANDARD
TZOFFSETFROM:-0400
TZOFFSETTO:-0500
TZNAME:EST
DTSTART:20231105T060000
END:STANDARD
BEGIN:DAYLIGHT
TZOFFSETFROM:-0500
TZOFFSETTO:-0400
TZNAME:EDT
DTSTART:20240310T070000
END:DAYLIGHT
BEGIN:STANDARD
TZOFFSETFROM:-0400
TZOFFSETTO:-0500
TZNAME:EST
DTSTART:20241103T060000
END:STANDARD
BEGIN:DAYLIGHT
TZOFFSETFROM:-0500
TZOFFSETTO:-0400
TZNAME:EDT
DTSTART:20250309T070000
END:DAYLIGHT
BEGIN:STANDARD
TZOFFSETFROM:-0400
TZOFFSETTO:-0500
TZNAME:EST
DTSTART:20251102T060000
END:STANDARD
END:VTIMEZONE
BEGIN:VEVENT
DTSTART;TZID=America/Toronto:20241012T090000
DTEND;TZID=America/Toronto:20241012T170000
DTSTAMP:20260421T044214
CREATED:20240909T222555Z
LAST-MODIFIED:20240909T222555Z
UID:1503-1728723600-1728752400@ghostridermtb.com
SUMMARY:Mansfield Outdoor Center Open House - Hops In The Hills
DESCRIPTION:Join us on October 12th from 9AM to 5PM at the Mansfield Outdoor Centre for “Hops In The Hills @ Mansfield Outdoor Centre Open House”! This event features live music\, beer garden\, a delicious BBQ and more! With a perfect blend of activities for all ages\, it’s the ultimate day out in the GREAT outdoors. \nThis annual Open House allows FREE facility access for all your hiking\, biking\, trail running needs. \nAvailable for purchase on day of event: \nBBQ provided by our Pine River Café \nBar featuring local beers\, ciders and non-alcoholic beverages. \nParking: https://maps.app.goo.gl/pKnRcn7AdjGDnZgU7 \n**Please note\, this is a Mansfield Outdoor Center event\, Ghost Rider MTB is not affiliated in any way & is there as a paying participant. Enjoy at your own risk & peril.
URL:https://ghostridermtb.com/event/mansfield-outdoor-center-open-house-hops-in-the-hills/
LOCATION:Mansfield Outdoor Centre\, 937365 Airport Rd\, Mulmur\, Ontario\, L9V 3T6\, Canada
CATEGORIES:Events,Rides
ATTACH;FMTTYPE=image/jpeg:https://ghostridermtb.com/wp-content/uploads/2023/09/20221016_132204.jpg
END:VEVENT
END:VCALENDAR