BEGIN:VCALENDAR
VERSION:2.0
PRODID:-//Ghost Rider MTB - ECPv6.15.14//NONSGML v1.0//EN
CALSCALE:GREGORIAN
METHOD:PUBLISH
X-WR-CALNAME:Ghost Rider MTB
X-ORIGINAL-URL:https://ghostridermtb.com
X-WR-CALDESC:Events for Ghost Rider MTB
REFRESH-INTERVAL;VALUE=DURATION:PT1H
X-Robots-Tag:noindex
X-PUBLISHED-TTL:PT1H
BEGIN:VTIMEZONE
TZID:America/Toronto
BEGIN:DAYLIGHT
TZOFFSETFROM:-0500
TZOFFSETTO:-0400
TZNAME:EDT
DTSTART:20230312T070000
END:DAYLIGHT
BEGIN:STANDARD
TZOFFSETFROM:-0400
TZOFFSETTO:-0500
TZNAME:EST
DTSTART:20231105T060000
END:STANDARD
BEGIN:DAYLIGHT
TZOFFSETFROM:-0500
TZOFFSETTO:-0400
TZNAME:EDT
DTSTART:20240310T070000
END:DAYLIGHT
BEGIN:STANDARD
TZOFFSETFROM:-0400
TZOFFSETTO:-0500
TZNAME:EST
DTSTART:20241103T060000
END:STANDARD
BEGIN:DAYLIGHT
TZOFFSETFROM:-0500
TZOFFSETTO:-0400
TZNAME:EDT
DTSTART:20250309T070000
END:DAYLIGHT
BEGIN:STANDARD
TZOFFSETFROM:-0400
TZOFFSETTO:-0500
TZNAME:EST
DTSTART:20251102T060000
END:STANDARD
END:VTIMEZONE
BEGIN:VEVENT
DTSTART;TZID=America/Toronto:20240901T101500
DTEND;TZID=America/Toronto:20240901T133000
DTSTAMP:20260423T062701
CREATED:20240320T135856Z
LAST-MODIFIED:20240830T132434Z
UID:1179-1725185700-1725197400@ghostridermtb.com
SUMMARY:Update!!! Labour Day weekend - Simcoe Forest - Creeks Black ride
DESCRIPTION:We are heading to the Simcoe Forest – Oro tract to ride the Creeks Black route (plus more) \nStarting 10:15 to 10:30 from the parking location below. \nhttps://www.trailforks.com/trails/creeks-black/ \nThis is an intermediate to Advanced ride\, Expect 30+ KM \nTrailforks Route: https://www.trailforks.com/ridelog/planner/view/536553/ \nParking on Line 5 N\, Coldwater\, ON L0K 1E0. This is the roadside as we enter the Tustin Tract \nhttps://maps.app.goo.gl/KEZ3cjZ6PgnzuAxj8 \nExpect mozzies & Labour day level heat.
URL:https://ghostridermtb.com/event/labour-day-weekend-simcoe-forest-creeks-black-ride/
LOCATION:Simcoe Forest – Oro – 100 Bass Lake Sideroad\, 100 Bass Lake Sideroad\, Oro-Medonte\, On\, Canada
CATEGORIES:Rides
ATTACH;FMTTYPE=image/png:https://ghostridermtb.com/wp-content/uploads/2024/03/SCMBC-ORO-Creeks.png
END:VEVENT
END:VCALENDAR