BEGIN:VCALENDAR
VERSION:2.0
PRODID:-//Ghost Rider MTB - ECPv6.15.14//NONSGML v1.0//EN
CALSCALE:GREGORIAN
METHOD:PUBLISH
X-ORIGINAL-URL:https://ghostridermtb.com
X-WR-CALDESC:Events for Ghost Rider MTB
REFRESH-INTERVAL;VALUE=DURATION:PT1H
X-Robots-Tag:noindex
X-PUBLISHED-TTL:PT1H
BEGIN:VTIMEZONE
TZID:America/Toronto
BEGIN:DAYLIGHT
TZOFFSETFROM:-0500
TZOFFSETTO:-0400
TZNAME:EDT
DTSTART:20230312T070000
END:DAYLIGHT
BEGIN:STANDARD
TZOFFSETFROM:-0400
TZOFFSETTO:-0500
TZNAME:EST
DTSTART:20231105T060000
END:STANDARD
BEGIN:DAYLIGHT
TZOFFSETFROM:-0500
TZOFFSETTO:-0400
TZNAME:EDT
DTSTART:20240310T070000
END:DAYLIGHT
BEGIN:STANDARD
TZOFFSETFROM:-0400
TZOFFSETTO:-0500
TZNAME:EST
DTSTART:20241103T060000
END:STANDARD
BEGIN:DAYLIGHT
TZOFFSETFROM:-0500
TZOFFSETTO:-0400
TZNAME:EDT
DTSTART:20250309T070000
END:DAYLIGHT
BEGIN:STANDARD
TZOFFSETFROM:-0400
TZOFFSETTO:-0500
TZNAME:EST
DTSTART:20251102T060000
END:STANDARD
END:VTIMEZONE
BEGIN:VEVENT
DTSTART;TZID=America/Toronto:20240810T131500
DTEND;TZID=America/Toronto:20240810T153000
DTSTAMP:20260423T082607
CREATED:20240809T183407Z
LAST-MODIFIED:20240809T183407Z
UID:1477-1723295700-1723303800@ghostridermtb.com
SUMMARY:Random Ride - Brunswick Bierworks & BBQ Ride
DESCRIPTION:Saturday 10th Aug\, we are riding Motown to the Kitchen sink Lookout\, then onto Brunswick for a 2pm BBQ & Beer event. \nStarting from E.T Seton #2 Parking lot around 1:15pm \nParking: https://maps.app.goo.gl/m4pp9aGnwXYznykS6 \nExpect a fun ride\, Motown. Moartown\, New Rail Crossing\, Lower Kitchen Sink\, Lookout Trail\, Northline Rd Access\, Brunswick.. \n-Mozzies are hungry\, wear repellant \n-Warm weather\, bring enough hydration \n-Bring a ziploc bag for leftovers & you can buy Empanadas to take home from across the street. \nHouse Of Empanadas \n \nhttps://maps.app.goo.gl/U4DEu9AsT8p95tyr6 \nBrunswick Bierworks \ns \n25 Curity Avenue\, \nEast York\, ON M4B 3M2 \nhttps://www.brunswickbierworks.com/
URL:https://ghostridermtb.com/event/random-ride-brunswick-bierworks-bbq-ride/
LOCATION:Et Seton #2 Parking lot\, E.T. Seton Park\, Area 2 701 Lower Don Recreation Trail\, Toronto\, Omtario\, Canada
CATEGORIES:Rides
ATTACH;FMTTYPE=image/png:https://ghostridermtb.com/wp-content/uploads/2024/08/BrunswickBierworks.png
END:VEVENT
END:VCALENDAR