BEGIN:VCALENDAR
VERSION:2.0
PRODID:-//Ghost Rider MTB - ECPv6.15.14//NONSGML v1.0//EN
CALSCALE:GREGORIAN
METHOD:PUBLISH
X-ORIGINAL-URL:https://ghostridermtb.com
X-WR-CALDESC:Events for Ghost Rider MTB
REFRESH-INTERVAL;VALUE=DURATION:PT1H
X-Robots-Tag:noindex
X-PUBLISHED-TTL:PT1H
BEGIN:VTIMEZONE
TZID:America/Toronto
BEGIN:DAYLIGHT
TZOFFSETFROM:-0500
TZOFFSETTO:-0400
TZNAME:EDT
DTSTART:20230312T070000
END:DAYLIGHT
BEGIN:STANDARD
TZOFFSETFROM:-0400
TZOFFSETTO:-0500
TZNAME:EST
DTSTART:20231105T060000
END:STANDARD
BEGIN:DAYLIGHT
TZOFFSETFROM:-0500
TZOFFSETTO:-0400
TZNAME:EDT
DTSTART:20240310T070000
END:DAYLIGHT
BEGIN:STANDARD
TZOFFSETFROM:-0400
TZOFFSETTO:-0500
TZNAME:EST
DTSTART:20241103T060000
END:STANDARD
BEGIN:DAYLIGHT
TZOFFSETFROM:-0500
TZOFFSETTO:-0400
TZNAME:EDT
DTSTART:20250309T070000
END:DAYLIGHT
BEGIN:STANDARD
TZOFFSETFROM:-0400
TZOFFSETTO:-0500
TZNAME:EST
DTSTART:20251102T060000
END:STANDARD
END:VTIMEZONE
BEGIN:VEVENT
DTSTART;TZID=America/Toronto:20240805T100000
DTEND;TZID=America/Toronto:20240805T130000
DTSTAMP:20260423T082608
CREATED:20240317T191615Z
LAST-MODIFIED:20240805T115931Z
UID:1165-1722852000-1722862800@ghostridermtb.com
SUMMARY:Cancelled Due to Rain Palgrave Forest - Holiday Monday Recovery Ride
DESCRIPTION:Starting from Duffy’s Lane parking lot at 10AM sharp. \nThis is a intermediate to advanced ride. \nhttps://www.trailforks.com/region/palgrave-conservation-area/ \nParking: https://maps.app.goo.gl/Dha8gH4kCQFmzT3U7 \nRide through the forest\, mostly blue rated trails at a medium pace. Diversions will occur onto the occasional black trail. \nBring a beverage\, a snack for after the ride social. \nRain Date: TDB
URL:https://ghostridermtb.com/event/palgrave-forest-holiday-monday-recovery-ride/
LOCATION:Palgrave Forest\, Parking lot\, Caledon\, Ontario\, L7E 3J9\, Canada
CATEGORIES:Rides
ATTACH;FMTTYPE=image/jpeg:https://ghostridermtb.com/wp-content/uploads/2024/03/Palgrave.jpg
END:VEVENT
END:VCALENDAR