BEGIN:VCALENDAR
VERSION:2.0
PRODID:-//Ghost Rider MTB - ECPv6.15.14//NONSGML v1.0//EN
CALSCALE:GREGORIAN
METHOD:PUBLISH
X-WR-CALNAME:Ghost Rider MTB
X-ORIGINAL-URL:https://ghostridermtb.com
X-WR-CALDESC:Events for Ghost Rider MTB
REFRESH-INTERVAL;VALUE=DURATION:PT1H
X-Robots-Tag:noindex
X-PUBLISHED-TTL:PT1H
BEGIN:VTIMEZONE
TZID:America/Toronto
BEGIN:DAYLIGHT
TZOFFSETFROM:-0500
TZOFFSETTO:-0400
TZNAME:EDT
DTSTART:20230312T070000
END:DAYLIGHT
BEGIN:STANDARD
TZOFFSETFROM:-0400
TZOFFSETTO:-0500
TZNAME:EST
DTSTART:20231105T060000
END:STANDARD
BEGIN:DAYLIGHT
TZOFFSETFROM:-0500
TZOFFSETTO:-0400
TZNAME:EDT
DTSTART:20240310T070000
END:DAYLIGHT
BEGIN:STANDARD
TZOFFSETFROM:-0400
TZOFFSETTO:-0500
TZNAME:EST
DTSTART:20241103T060000
END:STANDARD
BEGIN:DAYLIGHT
TZOFFSETFROM:-0500
TZOFFSETTO:-0400
TZNAME:EDT
DTSTART:20250309T070000
END:DAYLIGHT
BEGIN:STANDARD
TZOFFSETFROM:-0400
TZOFFSETTO:-0500
TZNAME:EST
DTSTART:20251102T060000
END:STANDARD
END:VTIMEZONE
BEGIN:VEVENT
DTSTART;TZID=America/Toronto:20240804T100000
DTEND;TZID=America/Toronto:20240804T140000
DTSTAMP:20260423T061707
CREATED:20240317T190651Z
LAST-MODIFIED:20240724T145510Z
UID:1160-1722765600-1722780000@ghostridermtb.com
SUMMARY:Halton Region Agreement Forest (HAFTA Trails)
DESCRIPTION:Sunday Ride at HAFTA – 10 am start. Expect 15 – 20Km \nhttps://www.trailforks.com/region/halton-region-agreement-forest-hafta-trails/ \nThis is an advanced ride!!!!!!!!!!!!!!!! \nParking: https://maps.app.goo.gl/SXeurhV9WMVzVJ9SA \nBring a chair & beverage for after the ride \nRain Date: TBD
URL:https://ghostridermtb.com/event/halton-region-agreement-forest-hafta-trails/
LOCATION:HAFTA\, 10125 Fourth Line Nassagaweya\, Campbellville\, On\, L0P 1B0\, Canada
CATEGORIES:Events
ATTACH;FMTTYPE=image/jpeg:https://ghostridermtb.com/wp-content/uploads/2024/03/HAFTA-GnomeRock.jpg
END:VEVENT
END:VCALENDAR