BEGIN:VCALENDAR
VERSION:2.0
PRODID:-//Ghost Rider MTB - ECPv6.15.14//NONSGML v1.0//EN
CALSCALE:GREGORIAN
METHOD:PUBLISH
X-ORIGINAL-URL:https://ghostridermtb.com
X-WR-CALDESC:Events for Ghost Rider MTB
REFRESH-INTERVAL;VALUE=DURATION:PT1H
X-Robots-Tag:noindex
X-PUBLISHED-TTL:PT1H
BEGIN:VTIMEZONE
TZID:America/Toronto
BEGIN:DAYLIGHT
TZOFFSETFROM:-0500
TZOFFSETTO:-0400
TZNAME:EDT
DTSTART:20230312T070000
END:DAYLIGHT
BEGIN:STANDARD
TZOFFSETFROM:-0400
TZOFFSETTO:-0500
TZNAME:EST
DTSTART:20231105T060000
END:STANDARD
BEGIN:DAYLIGHT
TZOFFSETFROM:-0500
TZOFFSETTO:-0400
TZNAME:EDT
DTSTART:20240310T070000
END:DAYLIGHT
BEGIN:STANDARD
TZOFFSETFROM:-0400
TZOFFSETTO:-0500
TZNAME:EST
DTSTART:20241103T060000
END:STANDARD
BEGIN:DAYLIGHT
TZOFFSETFROM:-0500
TZOFFSETTO:-0400
TZNAME:EDT
DTSTART:20250309T070000
END:DAYLIGHT
BEGIN:STANDARD
TZOFFSETFROM:-0400
TZOFFSETTO:-0500
TZNAME:EST
DTSTART:20251102T060000
END:STANDARD
END:VTIMEZONE
BEGIN:VEVENT
DTSTART;TZID=America/Toronto:20240630T100000
DTEND;TZID=America/Toronto:20240630T140000
DTSTAMP:20260423T101507
CREATED:20240317T165603Z
LAST-MODIFIED:20240627T014222Z
UID:1141-1719741600-1719756000@ghostridermtb.com
SUMMARY:Hickling Trail Network & Simcoe Admin/Sports Complex Trail Area
DESCRIPTION:We are riding the two areas\, Hickling & Simcoe Admin/Sports Complex Trail Area. \nExpect 25 to 35km \nParking: https://maps.app.goo.gl/PgM6v5NDRWHyULUQA \n-Hickling Trail Network is the South section: https://www.trailforks.com/region/scmbc-hickling-trail-network-37897/ \nHickling Spring Water Route: https://www.trailforks.com/route/hickling-spring-water/ \n-Simcoe Admin/Sports Complex Trail Area is to the North: https://www.trailforks.com/region/simcoe-admin-sports-complex-trail-area-30885/ \nNo routes\, we’re going to wing it! \nThis is an intermediate ride. \nBring  chair\, beverage & snacks for after the ride. \nRain Date: July 07th
URL:https://ghostridermtb.com/event/hickling-trail-network-simcoe-admin-sports-complex-trail-area/
LOCATION:Hickling Forest\, 1251 Snow Valley Rd\, Minesing\, On\, L0L 1Y3\, Canada
CATEGORIES:Rides
ATTACH;FMTTYPE=image/jpeg:https://ghostridermtb.com/wp-content/uploads/2023/07/20200905_114537.jpg
END:VEVENT
END:VCALENDAR