BEGIN:VCALENDAR
VERSION:2.0
PRODID:-//Ghost Rider MTB - ECPv6.15.14//NONSGML v1.0//EN
CALSCALE:GREGORIAN
METHOD:PUBLISH
X-ORIGINAL-URL:https://ghostridermtb.com
X-WR-CALDESC:Events for Ghost Rider MTB
REFRESH-INTERVAL;VALUE=DURATION:PT1H
X-Robots-Tag:noindex
X-PUBLISHED-TTL:PT1H
BEGIN:VTIMEZONE
TZID:America/Toronto
BEGIN:DAYLIGHT
TZOFFSETFROM:-0500
TZOFFSETTO:-0400
TZNAME:EDT
DTSTART:20230312T070000
END:DAYLIGHT
BEGIN:STANDARD
TZOFFSETFROM:-0400
TZOFFSETTO:-0500
TZNAME:EST
DTSTART:20231105T060000
END:STANDARD
BEGIN:DAYLIGHT
TZOFFSETFROM:-0500
TZOFFSETTO:-0400
TZNAME:EDT
DTSTART:20240310T070000
END:DAYLIGHT
BEGIN:STANDARD
TZOFFSETFROM:-0400
TZOFFSETTO:-0500
TZNAME:EST
DTSTART:20241103T060000
END:STANDARD
BEGIN:DAYLIGHT
TZOFFSETFROM:-0500
TZOFFSETTO:-0400
TZNAME:EDT
DTSTART:20250309T070000
END:DAYLIGHT
BEGIN:STANDARD
TZOFFSETFROM:-0400
TZOFFSETTO:-0500
TZNAME:EST
DTSTART:20251102T060000
END:STANDARD
END:VTIMEZONE
BEGIN:VEVENT
DTSTART;TZID=America/Toronto:20240627T100000
DTEND;TZID=America/Toronto:20240627T123000
DTSTAMP:20260423T101506
CREATED:20240627T013010Z
LAST-MODIFIED:20240627T013010Z
UID:1456-1719482400-1719491400@ghostridermtb.com
SUMMARY:The Hydrocut - New Trail - Random Ride notification
DESCRIPTION:10:00 am start. We are going to primarily explore the new trails Captain Crunch\, CP Rail\, Flow Thru & Up Schmidts Creek. Anything else  will be a bonus. \nhttps://www.trailforks.com/region/the-hydrocut/ \nThis is a intermediate to advanced ride. \nParking at : WCC Hydrocut Trails Pine’s Entrance. Parking can be limited\, getting there early helps. \nhttps://goo.gl/maps/SKv2rBZcw51xc2vt5 \nBring Anti mozzie protection\, & expect low 20’s for temps. \n 
URL:https://ghostridermtb.com/event/the-hydrocut-new-trail-random-ride-notification/
LOCATION:The Hydrocut – Pines Parking Lot\, 1910 Snyder's Rd E\, Petersburg\, On\, N0B 2H0\, Canada
CATEGORIES:Rides
ATTACH;FMTTYPE=image/jpeg:https://ghostridermtb.com/wp-content/uploads/2024/03/Screenshot_4.jpg
END:VEVENT
END:VCALENDAR