BEGIN:VCALENDAR
VERSION:2.0
PRODID:-//Ghost Rider MTB - ECPv6.15.14//NONSGML v1.0//EN
CALSCALE:GREGORIAN
METHOD:PUBLISH
X-WR-CALNAME:Ghost Rider MTB
X-ORIGINAL-URL:https://ghostridermtb.com
X-WR-CALDESC:Events for Ghost Rider MTB
REFRESH-INTERVAL;VALUE=DURATION:PT1H
X-Robots-Tag:noindex
X-PUBLISHED-TTL:PT1H
BEGIN:VTIMEZONE
TZID:America/Toronto
BEGIN:DAYLIGHT
TZOFFSETFROM:-0500
TZOFFSETTO:-0400
TZNAME:EDT
DTSTART:20230312T070000
END:DAYLIGHT
BEGIN:STANDARD
TZOFFSETFROM:-0400
TZOFFSETTO:-0500
TZNAME:EST
DTSTART:20231105T060000
END:STANDARD
BEGIN:DAYLIGHT
TZOFFSETFROM:-0500
TZOFFSETTO:-0400
TZNAME:EDT
DTSTART:20240310T070000
END:DAYLIGHT
BEGIN:STANDARD
TZOFFSETFROM:-0400
TZOFFSETTO:-0500
TZNAME:EST
DTSTART:20241103T060000
END:STANDARD
BEGIN:DAYLIGHT
TZOFFSETFROM:-0500
TZOFFSETTO:-0400
TZNAME:EDT
DTSTART:20250309T070000
END:DAYLIGHT
BEGIN:STANDARD
TZOFFSETFROM:-0400
TZOFFSETTO:-0500
TZNAME:EST
DTSTART:20251102T060000
END:STANDARD
END:VTIMEZONE
BEGIN:VEVENT
DTSTART;TZID=America/Toronto:20240616T100000
DTEND;TZID=America/Toronto:20240616T130000
DTSTAMP:20260423T115334
CREATED:20240317T164453Z
LAST-MODIFIED:20240614T222752Z
UID:1137-1718532000-1718542800@ghostridermtb.com
SUMMARY:Harold Town Conservation Area - Fathers day ride
DESCRIPTION:Fun ride at Harold Town. Expect 17Km \nhttps://www.trailforks.com/region/harold-town-conservation-area/ \nThis is a intermediate to advanced ride. \nParking: https://goo.gl/maps/wgrYX4NbH9UhA9gV8 \nBring a chair\, snacks & beverage for after the ride. BBQ is out for Sunday\, sorry. Bring cooked food. \nThere are food places approx 15 minutes back towards the city if one wishes for something more to eat. \nRain date: June 23rd
URL:https://ghostridermtb.com/event/harold-town-conservation-area/
LOCATION:Harold Town\, 2611 Old Norwood Rd\, Peterborough\, On\, K9H 7M9\, Canada
CATEGORIES:Rides
ATTACH;FMTTYPE=image/jpeg:https://ghostridermtb.com/wp-content/uploads/2024/03/07-Dawn-screenshot.jpg
END:VEVENT
END:VCALENDAR