BEGIN:VCALENDAR
VERSION:2.0
PRODID:-//Ghost Rider MTB - ECPv6.15.14//NONSGML v1.0//EN
CALSCALE:GREGORIAN
METHOD:PUBLISH
X-ORIGINAL-URL:https://ghostridermtb.com
X-WR-CALDESC:Events for Ghost Rider MTB
REFRESH-INTERVAL;VALUE=DURATION:PT1H
X-Robots-Tag:noindex
X-PUBLISHED-TTL:PT1H
BEGIN:VTIMEZONE
TZID:America/Toronto
BEGIN:DAYLIGHT
TZOFFSETFROM:-0500
TZOFFSETTO:-0400
TZNAME:EDT
DTSTART:20230312T070000
END:DAYLIGHT
BEGIN:STANDARD
TZOFFSETFROM:-0400
TZOFFSETTO:-0500
TZNAME:EST
DTSTART:20231105T060000
END:STANDARD
BEGIN:DAYLIGHT
TZOFFSETFROM:-0500
TZOFFSETTO:-0400
TZNAME:EDT
DTSTART:20240310T070000
END:DAYLIGHT
BEGIN:STANDARD
TZOFFSETFROM:-0400
TZOFFSETTO:-0500
TZNAME:EST
DTSTART:20241103T060000
END:STANDARD
BEGIN:DAYLIGHT
TZOFFSETFROM:-0500
TZOFFSETTO:-0400
TZNAME:EDT
DTSTART:20250309T070000
END:DAYLIGHT
BEGIN:STANDARD
TZOFFSETFROM:-0400
TZOFFSETTO:-0500
TZNAME:EST
DTSTART:20251102T060000
END:STANDARD
END:VTIMEZONE
BEGIN:VEVENT
DTSTART;TZID=America/Toronto:20240608T100000
DTEND;TZID=America/Toronto:20240608T130000
DTSTAMP:20260423T101428
CREATED:20240607T194312Z
LAST-MODIFIED:20240607T194312Z
UID:1271-1717840800-1717851600@ghostridermtb.com
SUMMARY:Jefferson Forest - Saturday Dodge the rain ride
DESCRIPTION:Saturday ride at Jefferson Forest\, 10am Bethesda parking lot.. \nhttps://www.trailforks.com/region/jefferson-forest/ \nJefferson Forest: \nParking: https://maps.app.goo.gl/vkufbwAhNQCVF9zd6 \nFriday’s rain will dictate just how much we ride…. \nMozzies in full force\, Off or insect repellant of choice strongly recommended. \nBring a beverage & snack for after the ride
URL:https://ghostridermtb.com/event/jefferson-forest-saturday-dodge-the-rain-ride/
LOCATION:Jefferson Forest\, 1245 Bethesda Side Rd\, Richmond Hill\, Ontario\, L4E 1A2\, Canada
CATEGORIES:Rides
ATTACH;FMTTYPE=image/jpeg:https://ghostridermtb.com/wp-content/uploads/2023/03/20230307_204400-4.jpg
END:VEVENT
END:VCALENDAR