BEGIN:VCALENDAR
VERSION:2.0
PRODID:-//Ghost Rider MTB - ECPv6.15.14//NONSGML v1.0//EN
CALSCALE:GREGORIAN
METHOD:PUBLISH
X-ORIGINAL-URL:https://ghostridermtb.com
X-WR-CALDESC:Events for Ghost Rider MTB
REFRESH-INTERVAL;VALUE=DURATION:PT1H
X-Robots-Tag:noindex
X-PUBLISHED-TTL:PT1H
BEGIN:VTIMEZONE
TZID:America/Toronto
BEGIN:DAYLIGHT
TZOFFSETFROM:-0500
TZOFFSETTO:-0400
TZNAME:EDT
DTSTART:20230312T070000
END:DAYLIGHT
BEGIN:STANDARD
TZOFFSETFROM:-0400
TZOFFSETTO:-0500
TZNAME:EST
DTSTART:20231105T060000
END:STANDARD
BEGIN:DAYLIGHT
TZOFFSETFROM:-0500
TZOFFSETTO:-0400
TZNAME:EDT
DTSTART:20240310T070000
END:DAYLIGHT
BEGIN:STANDARD
TZOFFSETFROM:-0400
TZOFFSETTO:-0500
TZNAME:EST
DTSTART:20241103T060000
END:STANDARD
BEGIN:DAYLIGHT
TZOFFSETFROM:-0500
TZOFFSETTO:-0400
TZNAME:EDT
DTSTART:20250309T070000
END:DAYLIGHT
BEGIN:STANDARD
TZOFFSETFROM:-0400
TZOFFSETTO:-0500
TZNAME:EST
DTSTART:20251102T060000
END:STANDARD
END:VTIMEZONE
BEGIN:VEVENT
DTSTART;TZID=America/Toronto:20240601T110000
DTEND;TZID=America/Toronto:20240601T140000
DTSTAMP:20260423T101506
CREATED:20240531T180002Z
LAST-MODIFIED:20240531T180002Z
UID:1267-1717239600-1717250400@ghostridermtb.com
SUMMARY:Goldenfield Brewery Saturday Ride
DESCRIPTION:Goldenfield Saturday ride. \nMeet at the exit of Bunny poop for 11 -11:15. \nEt Seton Parking lot #2 \nRoute: Ride\, Motown\, moartown\, maybe hidden fortress and bottom of kitchen sink to the exit to Bermondsey Rd area trail… \nThen ride over to Goldenfield for a drink and a popup Panini. \nExpect: mozzies\, lots of mozzies. Wear your OFF.\n-Perfect riding weather. Mid 20’s °C\, sunscreen is good\n-Casual ride\, no drop.
URL:https://ghostridermtb.com/event/goldenfield-brewery-saturday-ride/
LOCATION:Et Seton #2 Parking lot\, E.T. Seton Park\, Area 2 701 Lower Don Recreation Trail\, Toronto\, Omtario\, Canada
CATEGORIES:Rides
ATTACH;FMTTYPE=image/jpeg:https://ghostridermtb.com/wp-content/uploads/2024/03/Screenshot_0.jpg
END:VEVENT
END:VCALENDAR