BEGIN:VCALENDAR
VERSION:2.0
PRODID:-//Ghost Rider MTB - ECPv6.15.14//NONSGML v1.0//EN
CALSCALE:GREGORIAN
METHOD:PUBLISH
X-WR-CALNAME:Ghost Rider MTB
X-ORIGINAL-URL:https://ghostridermtb.com
X-WR-CALDESC:Events for Ghost Rider MTB
REFRESH-INTERVAL;VALUE=DURATION:PT1H
X-Robots-Tag:noindex
X-PUBLISHED-TTL:PT1H
BEGIN:VTIMEZONE
TZID:America/Toronto
BEGIN:DAYLIGHT
TZOFFSETFROM:-0500
TZOFFSETTO:-0400
TZNAME:EDT
DTSTART:20230312T070000
END:DAYLIGHT
BEGIN:STANDARD
TZOFFSETFROM:-0400
TZOFFSETTO:-0500
TZNAME:EST
DTSTART:20231105T060000
END:STANDARD
BEGIN:DAYLIGHT
TZOFFSETFROM:-0500
TZOFFSETTO:-0400
TZNAME:EDT
DTSTART:20240310T070000
END:DAYLIGHT
BEGIN:STANDARD
TZOFFSETFROM:-0400
TZOFFSETTO:-0500
TZNAME:EST
DTSTART:20241103T060000
END:STANDARD
BEGIN:DAYLIGHT
TZOFFSETFROM:-0500
TZOFFSETTO:-0400
TZNAME:EDT
DTSTART:20250309T070000
END:DAYLIGHT
BEGIN:STANDARD
TZOFFSETFROM:-0400
TZOFFSETTO:-0500
TZNAME:EST
DTSTART:20251102T060000
END:STANDARD
END:VTIMEZONE
BEGIN:VEVENT
DTSTART;TZID=America/Toronto:20240529T183000
DTEND;TZID=America/Toronto:20240529T200000
DTSTAMP:20260423T101251
CREATED:20240528T222039Z
LAST-MODIFIED:20240528T222039Z
UID:1264-1717007400-1717012800@ghostridermtb.com
SUMMARY:Dawn's Not Motown rip #2/6 - Topo to BOT ride & some other stuff
DESCRIPTION:This is part of Dawn’s Motown & other stuff rip #2/6.. Start at 6:30ish from Loblaws on Redway Rd. \nWeather permitting\, we are starting from Loblaws on Redway Rd & heading east along the Ridge trail to Cricket tree. Probably arrive around 6:50. A possible meeting place. \nThen we ride up the hill to Topo & head in from there. \n-Expect mozzies thick and hungry\, wear your deep woods OFF or get eaten alive.\n-Should be comfy weather for riding.\n-After BOT we will probably head south on whatever we feel like.
URL:https://ghostridermtb.com/event/dawns-not-motown-rip-2-6-topo-to-bot-ride-some-other-stuff/
LOCATION:Loblaws Parking lot – Crothers Woods -Redway Rd\, Crothers Woods Trail\, Toronto\, On\, M4H 1P6\, Canada
CATEGORIES:Rides
ATTACH;FMTTYPE=image/jpeg:https://ghostridermtb.com/wp-content/uploads/2024/03/01-Dawn_screenshot.jpg
END:VEVENT
END:VCALENDAR