BEGIN:VCALENDAR
VERSION:2.0
PRODID:-//Ghost Rider MTB - ECPv6.15.14//NONSGML v1.0//EN
CALSCALE:GREGORIAN
METHOD:PUBLISH
X-ORIGINAL-URL:https://ghostridermtb.com
X-WR-CALDESC:Events for Ghost Rider MTB
REFRESH-INTERVAL;VALUE=DURATION:PT1H
X-Robots-Tag:noindex
X-PUBLISHED-TTL:PT1H
BEGIN:VTIMEZONE
TZID:America/Toronto
BEGIN:DAYLIGHT
TZOFFSETFROM:-0500
TZOFFSETTO:-0400
TZNAME:EDT
DTSTART:20230312T070000
END:DAYLIGHT
BEGIN:STANDARD
TZOFFSETFROM:-0400
TZOFFSETTO:-0500
TZNAME:EST
DTSTART:20231105T060000
END:STANDARD
BEGIN:DAYLIGHT
TZOFFSETFROM:-0500
TZOFFSETTO:-0400
TZNAME:EDT
DTSTART:20240310T070000
END:DAYLIGHT
BEGIN:STANDARD
TZOFFSETFROM:-0400
TZOFFSETTO:-0500
TZNAME:EST
DTSTART:20241103T060000
END:STANDARD
BEGIN:DAYLIGHT
TZOFFSETFROM:-0500
TZOFFSETTO:-0400
TZNAME:EDT
DTSTART:20250309T070000
END:DAYLIGHT
BEGIN:STANDARD
TZOFFSETFROM:-0400
TZOFFSETTO:-0500
TZNAME:EST
DTSTART:20251102T060000
END:STANDARD
END:VTIMEZONE
BEGIN:VEVENT
DTSTART;TZID=America/Toronto:20240519T100000
DTEND;TZID=America/Toronto:20240519T130000
DTSTAMP:20260423T115548
CREATED:20240317T163223Z
LAST-MODIFIED:20240317T163223Z
UID:1132-1716112800-1716123600@ghostridermtb.com
SUMMARY:The Hydrocut - Tribe Ride
DESCRIPTION:10:00 am start. Expect 20-25Km \nhttps://www.trailforks.com/region/the-hydrocut/ \nThis is a intermediate to advanced ride. \nParking at : WCC Hydrocut Trails Pine’s Entrance. Parking can be limited\, getting there early helps. \nhttps://goo.gl/maps/SKv2rBZcw51xc2vt5 \nBring a chair & beverage for after the ride \nRain date: 26th May
URL:https://ghostridermtb.com/event/the-hydrocut-tribe-ride/
LOCATION:The Hydrocut – Pines Parking Lot\, 1910 Snyder's Rd E\, Petersburg\, On\, N0B 2H0\, Canada
CATEGORIES:Rides
ATTACH;FMTTYPE=image/jpeg:https://ghostridermtb.com/wp-content/uploads/2024/03/02-Andre_screenshot.jpg
END:VEVENT
END:VCALENDAR