BEGIN:VCALENDAR
VERSION:2.0
PRODID:-//Ghost Rider MTB - ECPv6.15.14//NONSGML v1.0//EN
CALSCALE:GREGORIAN
METHOD:PUBLISH
X-WR-CALNAME:Ghost Rider MTB
X-ORIGINAL-URL:https://ghostridermtb.com
X-WR-CALDESC:Events for Ghost Rider MTB
REFRESH-INTERVAL;VALUE=DURATION:PT1H
X-Robots-Tag:noindex
X-PUBLISHED-TTL:PT1H
BEGIN:VTIMEZONE
TZID:America/Toronto
BEGIN:DAYLIGHT
TZOFFSETFROM:-0500
TZOFFSETTO:-0400
TZNAME:EDT
DTSTART:20230312T070000
END:DAYLIGHT
BEGIN:STANDARD
TZOFFSETFROM:-0400
TZOFFSETTO:-0500
TZNAME:EST
DTSTART:20231105T060000
END:STANDARD
BEGIN:DAYLIGHT
TZOFFSETFROM:-0500
TZOFFSETTO:-0400
TZNAME:EDT
DTSTART:20240310T070000
END:DAYLIGHT
BEGIN:STANDARD
TZOFFSETFROM:-0400
TZOFFSETTO:-0500
TZNAME:EST
DTSTART:20241103T060000
END:STANDARD
BEGIN:DAYLIGHT
TZOFFSETFROM:-0500
TZOFFSETTO:-0400
TZNAME:EDT
DTSTART:20250309T070000
END:DAYLIGHT
BEGIN:STANDARD
TZOFFSETFROM:-0400
TZOFFSETTO:-0500
TZNAME:EST
DTSTART:20251102T060000
END:STANDARD
END:VTIMEZONE
BEGIN:VEVENT
DTSTART;TZID=America/Toronto:20240516T183000
DTEND;TZID=America/Toronto:20240516T200000
DTSTAMP:20260423T115330
CREATED:20240516T174556Z
LAST-MODIFIED:20240516T174556Z
UID:1244-1715884200-1715889600@ghostridermtb.com
SUMMARY:Gundy - Flowster - Panda Easy Welcome Carlton back Ride
DESCRIPTION:We are meeting at Serena Gundy for 6:30ish\, heading up to the Gundy bench & escorting Carlton through Secret\, Flowster\, Apples\, & Panda for an easy spin. No MO broken collar bones ride. \n  \nStart: Serena Gundy parking \nTime: 6:30pm sharp \nExpect: warmish weather\, mosquitoes\, dusty conditions \nThis is not a beginner but is an easy pace ride. \n 
URL:https://ghostridermtb.com/event/gundy-flowster-panda-easy-welcome-carlton-back-ride/
LOCATION:Serena Gundy Parking Lot\, 58 Rykert Crescent\, Toronto\, Ontario\, M4G 2S9\, Canada
CATEGORIES:Rides
ATTACH;FMTTYPE=image/jpeg:https://ghostridermtb.com/wp-content/uploads/2024/03/Screenshot_0-2.jpg
END:VEVENT
END:VCALENDAR