BEGIN:VCALENDAR
VERSION:2.0
PRODID:-//Ghost Rider MTB - ECPv6.15.14//NONSGML v1.0//EN
CALSCALE:GREGORIAN
METHOD:PUBLISH
X-ORIGINAL-URL:https://ghostridermtb.com
X-WR-CALDESC:Events for Ghost Rider MTB
REFRESH-INTERVAL;VALUE=DURATION:PT1H
X-Robots-Tag:noindex
X-PUBLISHED-TTL:PT1H
BEGIN:VTIMEZONE
TZID:America/Toronto
BEGIN:DAYLIGHT
TZOFFSETFROM:-0500
TZOFFSETTO:-0400
TZNAME:EDT
DTSTART:20230312T070000
END:DAYLIGHT
BEGIN:STANDARD
TZOFFSETFROM:-0400
TZOFFSETTO:-0500
TZNAME:EST
DTSTART:20231105T060000
END:STANDARD
BEGIN:DAYLIGHT
TZOFFSETFROM:-0500
TZOFFSETTO:-0400
TZNAME:EDT
DTSTART:20240310T070000
END:DAYLIGHT
BEGIN:STANDARD
TZOFFSETFROM:-0400
TZOFFSETTO:-0500
TZNAME:EST
DTSTART:20241103T060000
END:STANDARD
BEGIN:DAYLIGHT
TZOFFSETFROM:-0500
TZOFFSETTO:-0400
TZNAME:EDT
DTSTART:20250309T070000
END:DAYLIGHT
BEGIN:STANDARD
TZOFFSETFROM:-0400
TZOFFSETTO:-0500
TZNAME:EST
DTSTART:20251102T060000
END:STANDARD
END:VTIMEZONE
BEGIN:VEVENT
DTSTART;TZID=America/Toronto:20240511T080000
DTEND;TZID=America/Toronto:20240511T130000
DTSTAMP:20260423T115627
CREATED:20240510T234826Z
LAST-MODIFIED:20240510T234826Z
UID:1241-1715414400-1715432400@ghostridermtb.com
SUMMARY:Black Scorpion Adventure Saturday Check It Ride
DESCRIPTION:We are heading to Chaguaramas to ride Black Scorpion.. \nThis is a Check it b4 you Wreck It ride. This is a once down & done ride. \nThis is a Double Black Diamond Advanced ride \nParking TSTT old training center\, around here : https://www.trailforks.com/tracker/map/?ping=10.687426\,-61.615008 \nBring a beverage for after the ride. \nExpect steep\, bush\, loose conditions.
URL:https://ghostridermtb.com/event/black-scorpion-adventure-saturday-check-it-ride/
LOCATION:Chaguaramas\, Tucker Valley\, Trinidad and Tobago
CATEGORIES:Rides
ATTACH;FMTTYPE=image/jpeg:https://ghostridermtb.com/wp-content/uploads/2023/12/IMG_20231210_122634_617-1.jpg
END:VEVENT
END:VCALENDAR