BEGIN:VCALENDAR
VERSION:2.0
PRODID:-//Ghost Rider MTB - ECPv6.15.14//NONSGML v1.0//EN
CALSCALE:GREGORIAN
METHOD:PUBLISH
X-ORIGINAL-URL:https://ghostridermtb.com
X-WR-CALDESC:Events for Ghost Rider MTB
REFRESH-INTERVAL;VALUE=DURATION:PT1H
X-Robots-Tag:noindex
X-PUBLISHED-TTL:PT1H
BEGIN:VTIMEZONE
TZID:America/Toronto
BEGIN:DAYLIGHT
TZOFFSETFROM:-0500
TZOFFSETTO:-0400
TZNAME:EDT
DTSTART:20230312T070000
END:DAYLIGHT
BEGIN:STANDARD
TZOFFSETFROM:-0400
TZOFFSETTO:-0500
TZNAME:EST
DTSTART:20231105T060000
END:STANDARD
BEGIN:DAYLIGHT
TZOFFSETFROM:-0500
TZOFFSETTO:-0400
TZNAME:EDT
DTSTART:20240310T070000
END:DAYLIGHT
BEGIN:STANDARD
TZOFFSETFROM:-0400
TZOFFSETTO:-0500
TZNAME:EST
DTSTART:20241103T060000
END:STANDARD
BEGIN:DAYLIGHT
TZOFFSETFROM:-0500
TZOFFSETTO:-0400
TZNAME:EDT
DTSTART:20250309T070000
END:DAYLIGHT
BEGIN:STANDARD
TZOFFSETFROM:-0400
TZOFFSETTO:-0500
TZNAME:EST
DTSTART:20251102T060000
END:STANDARD
END:VTIMEZONE
BEGIN:VEVENT
DTSTART;TZID=America/Toronto:20240503T080000
DTEND;TZID=America/Toronto:20240506T170000
DTSTAMP:20260423T115546
CREATED:20240208T151428Z
LAST-MODIFIED:20240208T151428Z
UID:1101-1714723200-1715014800@ghostridermtb.com
SUMMARY:Tobago May MTB Madness 2024
DESCRIPTION:Yes\, you guessed it. We are off on another trip! \nhttps://www.tobagomountainbike.com/2024.html \n​Saturday\, 4th May: Cross Country Races (Kids\, Newcomers\, Adults) \nSunday\, 5th May: Enduro Races\, 3 Stages (for the experienced riders) \nFood\, Drinks and Music. \nWe will be flying down from the weekend before to get acclimated\, then over to Tobago a few days before to ride the trails & then enjoying the XC & Enduro races on the weekend. Then we head back to the Great White North
URL:https://ghostridermtb.com/event/tobago-may-mtb-madness-2024/
LOCATION:Tobago\, Trinidad and Tobago
CATEGORIES:Events
ATTACH;FMTTYPE=image/png:https://ghostridermtb.com/wp-content/uploads/2024/02/mtb-madness-logo-clear_orig.png
END:VEVENT
END:VCALENDAR