BEGIN:VCALENDAR
VERSION:2.0
PRODID:-//Ghost Rider MTB - ECPv6.15.14//NONSGML v1.0//EN
CALSCALE:GREGORIAN
METHOD:PUBLISH
X-ORIGINAL-URL:https://ghostridermtb.com
X-WR-CALDESC:Events for Ghost Rider MTB
REFRESH-INTERVAL;VALUE=DURATION:PT1H
X-Robots-Tag:noindex
X-PUBLISHED-TTL:PT1H
BEGIN:VTIMEZONE
TZID:America/Toronto
BEGIN:DAYLIGHT
TZOFFSETFROM:-0500
TZOFFSETTO:-0400
TZNAME:EDT
DTSTART:20230312T070000
END:DAYLIGHT
BEGIN:STANDARD
TZOFFSETFROM:-0400
TZOFFSETTO:-0500
TZNAME:EST
DTSTART:20231105T060000
END:STANDARD
BEGIN:DAYLIGHT
TZOFFSETFROM:-0500
TZOFFSETTO:-0400
TZNAME:EDT
DTSTART:20240310T070000
END:DAYLIGHT
BEGIN:STANDARD
TZOFFSETFROM:-0400
TZOFFSETTO:-0500
TZNAME:EST
DTSTART:20241103T060000
END:STANDARD
BEGIN:DAYLIGHT
TZOFFSETFROM:-0500
TZOFFSETTO:-0400
TZNAME:EDT
DTSTART:20250309T070000
END:DAYLIGHT
BEGIN:STANDARD
TZOFFSETFROM:-0400
TZOFFSETTO:-0500
TZNAME:EST
DTSTART:20251102T060000
END:STANDARD
END:VTIMEZONE
BEGIN:VEVENT
DTSTART;TZID=America/Toronto:20240225T100000
DTEND;TZID=America/Toronto:20240225T120000
DTSTAMP:20260423T183507
CREATED:20240223T164825Z
LAST-MODIFIED:20240224T201643Z
UID:1116-1708855200-1708862400@ghostridermtb.com
SUMMARY:CHANGE of Location - Creeks Route - Oro
DESCRIPTION:Creeks Route ride on Sunday while its still freezer like conditions. \nhttps://www.trailforks.com/goto/route/24029/ \nStarting at 10 am From- 280 Bass Lake Side Rd W\, Oro Station\, ON L0L 2E0 \nParking: https://maps.app.goo.gl/NpJthcYjGe2VsLjF8 \nExpect:\n-Freezing Conditions\n-Icy trails \nStudded tires & warm clothing recommended \nBring a warm beverage & snacks for after the ride.
URL:https://ghostridermtb.com/event/guelph-lake-trails-mountain-biking-trails-gorba-ride/
LOCATION:Creeks\, 280 Bass Lake Side Rd W\, Oro Station\, ON\, L0L 2E0\, Canada
CATEGORIES:Rides
ATTACH;FMTTYPE=image/jpeg:https://ghostridermtb.com/wp-content/uploads/2023/11/VideoCapture_20230216-171959-scaled.jpg
END:VEVENT
END:VCALENDAR