BEGIN:VCALENDAR
VERSION:2.0
PRODID:-//Ghost Rider MTB - ECPv6.15.14//NONSGML v1.0//EN
CALSCALE:GREGORIAN
METHOD:PUBLISH
X-ORIGINAL-URL:https://ghostridermtb.com
X-WR-CALDESC:Events for Ghost Rider MTB
REFRESH-INTERVAL;VALUE=DURATION:PT1H
X-Robots-Tag:noindex
X-PUBLISHED-TTL:PT1H
BEGIN:VTIMEZONE
TZID:America/Toronto
BEGIN:DAYLIGHT
TZOFFSETFROM:-0500
TZOFFSETTO:-0400
TZNAME:EDT
DTSTART:20230312T070000
END:DAYLIGHT
BEGIN:STANDARD
TZOFFSETFROM:-0400
TZOFFSETTO:-0500
TZNAME:EST
DTSTART:20231105T060000
END:STANDARD
BEGIN:DAYLIGHT
TZOFFSETFROM:-0500
TZOFFSETTO:-0400
TZNAME:EDT
DTSTART:20240310T070000
END:DAYLIGHT
BEGIN:STANDARD
TZOFFSETFROM:-0400
TZOFFSETTO:-0500
TZNAME:EST
DTSTART:20241103T060000
END:STANDARD
BEGIN:DAYLIGHT
TZOFFSETFROM:-0500
TZOFFSETTO:-0400
TZNAME:EDT
DTSTART:20250309T070000
END:DAYLIGHT
BEGIN:STANDARD
TZOFFSETFROM:-0400
TZOFFSETTO:-0500
TZNAME:EST
DTSTART:20251102T060000
END:STANDARD
END:VTIMEZONE
BEGIN:VEVENT
DTSTART;TZID=America/Toronto:20240203T160000
DTEND;TZID=America/Toronto:20240203T210000
DTSTAMP:20260423T165625
CREATED:20240104T200030Z
LAST-MODIFIED:20240104T200432Z
UID:1085-1706976000-1706994000@ghostridermtb.com
SUMMARY:Hardwood Fat Bike Night
DESCRIPTION:FREE Fat Bike event coming up on Saturday February 3rd\, 2024 hosted at Hardwood Ski and Bike in partnership with SCMBC\, Peace and Wheelies and MORCA. We will be riding their nicely groomed fat bike trails\, ski trails and lit night loop. There will also be an after party right there at the venue\, both outside and inside the chalet\, with food\, drinks\, music and prizes! \nThere is no cost to attend and ride\, just for food and drinks if desired afterwards. \nFat bike rentals are available while quantities last. Registration form below will include rental option. \n*REGISTER HERE \nEvent Name: Full Moon Fatty Fest\nLocation: Hardwood Ski and Bike\nDate: Saturday\, February 3rd\, 2023\nEvent Time: 4pm – 9pm’ish\nType: Fat Bike Festival\nEntry Cost: FREE\nRide Start: 430pm to 630-7pm\nSocializing Start: 530pm-9pm\n\nComplete event details here
URL:https://ghostridermtb.com/event/hardwood-fat-bike-night/
LOCATION:Hardwood Ski and Bike\, 402 Old Barrie Rd W\, Oro Station\, Ontario\, L0L 2E0\, Canada
CATEGORIES:Events
END:VEVENT
END:VCALENDAR