BEGIN:VCALENDAR
VERSION:2.0
PRODID:-//Ghost Rider MTB - ECPv6.15.14//NONSGML v1.0//EN
CALSCALE:GREGORIAN
METHOD:PUBLISH
X-WR-CALNAME:Ghost Rider MTB
X-ORIGINAL-URL:https://ghostridermtb.com
X-WR-CALDESC:Events for Ghost Rider MTB
REFRESH-INTERVAL;VALUE=DURATION:PT1H
X-Robots-Tag:noindex
X-PUBLISHED-TTL:PT1H
BEGIN:VTIMEZONE
TZID:America/Toronto
BEGIN:DAYLIGHT
TZOFFSETFROM:-0500
TZOFFSETTO:-0400
TZNAME:EDT
DTSTART:20220313T070000
END:DAYLIGHT
BEGIN:STANDARD
TZOFFSETFROM:-0400
TZOFFSETTO:-0500
TZNAME:EST
DTSTART:20221106T060000
END:STANDARD
BEGIN:DAYLIGHT
TZOFFSETFROM:-0500
TZOFFSETTO:-0400
TZNAME:EDT
DTSTART:20230312T070000
END:DAYLIGHT
BEGIN:STANDARD
TZOFFSETFROM:-0400
TZOFFSETTO:-0500
TZNAME:EST
DTSTART:20231105T060000
END:STANDARD
BEGIN:DAYLIGHT
TZOFFSETFROM:-0500
TZOFFSETTO:-0400
TZNAME:EDT
DTSTART:20240310T070000
END:DAYLIGHT
BEGIN:STANDARD
TZOFFSETFROM:-0400
TZOFFSETTO:-0500
TZNAME:EST
DTSTART:20241103T060000
END:STANDARD
END:VTIMEZONE
BEGIN:VEVENT
DTSTART;TZID=America/Toronto:20231217T100000
DTEND;TZID=America/Toronto:20231217T123000
DTSTAMP:20260423T201251
CREATED:20231213T222355Z
LAST-MODIFIED:20231213T222355Z
UID:1083-1702807200-1702816200@ghostridermtb.com
SUMMARY:Palgrave Forest take 2 - Small Sunday Ride -Let's try again!
DESCRIPTION:Palgrave Forest take 2 – Small Sunday Ride 10am start \nThe weather gods have seen to give us another Sunny Friday & warm Saturday morning with no rain (hopefully). If the weather forecasters are correct (only job where you can be wrong 50% of the time & keep your job) we will have a window of opportunity to ride dryish trails. \nStarting from Duffy’s Lane parking lot at 10AM sharp\, Sunday 17th Dec. \n-Skinny or Fatty tires welcome. \nhttps://maps.app.goo.gl/Dha8gH4kCQFmzT3U7 \nRide through the forest. Expect cold conditions\, mostly blue rated trails at a medium pace. Diversions will occur onto the occasional black trail if the ground conditions warrant. \nBring a beverage\, a snack for after the ride social. \n 
URL:https://ghostridermtb.com/event/palgrave-forest-take-2-small-sunday-ride-lets-try-again/
LOCATION:Palgrave Forest\, Parking lot\, Caledon\, Ontario\, L7E 3J9\, Canada
CATEGORIES:Rides
ATTACH;FMTTYPE=image/jpeg:https://ghostridermtb.com/wp-content/uploads/2023/09/20221016_110502_002.jpg
END:VEVENT
END:VCALENDAR