BEGIN:VCALENDAR
VERSION:2.0
PRODID:-//Ghost Rider MTB - ECPv6.15.14//NONSGML v1.0//EN
CALSCALE:GREGORIAN
METHOD:PUBLISH
X-WR-CALNAME:Ghost Rider MTB
X-ORIGINAL-URL:https://ghostridermtb.com
X-WR-CALDESC:Events for Ghost Rider MTB
REFRESH-INTERVAL;VALUE=DURATION:PT1H
X-Robots-Tag:noindex
X-PUBLISHED-TTL:PT1H
BEGIN:VTIMEZONE
TZID:America/Toronto
BEGIN:DAYLIGHT
TZOFFSETFROM:-0500
TZOFFSETTO:-0400
TZNAME:EDT
DTSTART:20220313T070000
END:DAYLIGHT
BEGIN:STANDARD
TZOFFSETFROM:-0400
TZOFFSETTO:-0500
TZNAME:EST
DTSTART:20221106T060000
END:STANDARD
BEGIN:DAYLIGHT
TZOFFSETFROM:-0500
TZOFFSETTO:-0400
TZNAME:EDT
DTSTART:20230312T070000
END:DAYLIGHT
BEGIN:STANDARD
TZOFFSETFROM:-0400
TZOFFSETTO:-0500
TZNAME:EST
DTSTART:20231105T060000
END:STANDARD
BEGIN:DAYLIGHT
TZOFFSETFROM:-0500
TZOFFSETTO:-0400
TZNAME:EDT
DTSTART:20240310T070000
END:DAYLIGHT
BEGIN:STANDARD
TZOFFSETFROM:-0400
TZOFFSETTO:-0500
TZNAME:EST
DTSTART:20241103T060000
END:STANDARD
END:VTIMEZONE
BEGIN:VEVENT
DTSTART;TZID=America/Toronto:20231202T100000
DTEND;TZID=America/Toronto:20231202T133000
DTSTAMP:20260423T201424
CREATED:20231127T211128Z
LAST-MODIFIED:20231128T031331Z
UID:1023-1701511200-1701523800@ghostridermtb.com
SUMMARY:Global Fatbike Day - Turkey Point
DESCRIPTION:Global Fat Bike this Saturday December 2nd at Turkey Point.  Join in on an Epic Day of Fatbike Riding followed by a hot bowl of Chilli and a cold refreshment. No need to sign up…just come for a fun day! \nProvided by the Turkey Point Mountain Bike club. \nThe event starts at 11am but the Lost Boyz group is heading out at 10 am.   \nStarting from the Turkey Point – Eco Center Parking  \n1730 Front Rd\, St Williams\, Ontario\, N0E 1P0\, Canada \nhttps://maps.app.goo.gl/UbMgwbUneFhVsjWVA  \nJoin us if you can.  \nAfter ride we will be grabbing some food and beverages or bring your chair\, beverage & food.  \nGet there early.  \nAlways a great day. 
URL:https://ghostridermtb.com/event/global-fatbike-day-turkey-point/
LOCATION:Turkey Point – Eco Center Parking\, 1730 Front Rd\, St Williams\, Ontario\, N0E 1P0\, Canada
CATEGORIES:Rides
ATTACH;FMTTYPE=image/jpeg:https://ghostridermtb.com/wp-content/uploads/2023/11/VideoCapture_20230216-171959-scaled.jpg
END:VEVENT
END:VCALENDAR