BEGIN:VCALENDAR
VERSION:2.0
PRODID:-//Ghost Rider MTB - ECPv6.15.14//NONSGML v1.0//EN
CALSCALE:GREGORIAN
METHOD:PUBLISH
X-ORIGINAL-URL:https://ghostridermtb.com
X-WR-CALDESC:Events for Ghost Rider MTB
REFRESH-INTERVAL;VALUE=DURATION:PT1H
X-Robots-Tag:noindex
X-PUBLISHED-TTL:PT1H
BEGIN:VTIMEZONE
TZID:America/Toronto
BEGIN:DAYLIGHT
TZOFFSETFROM:-0500
TZOFFSETTO:-0400
TZNAME:EDT
DTSTART:20220313T070000
END:DAYLIGHT
BEGIN:STANDARD
TZOFFSETFROM:-0400
TZOFFSETTO:-0500
TZNAME:EST
DTSTART:20221106T060000
END:STANDARD
BEGIN:DAYLIGHT
TZOFFSETFROM:-0500
TZOFFSETTO:-0400
TZNAME:EDT
DTSTART:20230312T070000
END:DAYLIGHT
BEGIN:STANDARD
TZOFFSETFROM:-0400
TZOFFSETTO:-0500
TZNAME:EST
DTSTART:20231105T060000
END:STANDARD
BEGIN:DAYLIGHT
TZOFFSETFROM:-0500
TZOFFSETTO:-0400
TZNAME:EDT
DTSTART:20240310T070000
END:DAYLIGHT
BEGIN:STANDARD
TZOFFSETFROM:-0400
TZOFFSETTO:-0500
TZNAME:EST
DTSTART:20241103T060000
END:STANDARD
END:VTIMEZONE
BEGIN:VEVENT
DTSTART;TZID=America/Toronto:20230917T100000
DTEND;TZID=America/Toronto:20230917T140000
DTSTAMP:20260424T004126
CREATED:20230409T213341Z
LAST-MODIFIED:20230908T145714Z
UID:648-1694944800-1694959200@ghostridermtb.com
SUMMARY:Harold Town Conservation Area Mountain Biking
DESCRIPTION:Fun ride at Harold Town. Expect 17Km \nhttps://www.trailforks.com/region/harold-town-conservation-area/ \nThis is a intermediate to advanced ride. \nParking: https://goo.gl/maps/wgrYX4NbH9UhA9gV8 \nBring a chair\, snacks & beverage for after the ride. \nThere are food places approx 15 minutes back towards the city if one wishes for something more to eat. \n 
URL:https://ghostridermtb.com/event/waterdown/
LOCATION:Ontario
CATEGORIES:Rides
ATTACH;FMTTYPE=image/jpeg:https://ghostridermtb.com/wp-content/uploads/2023/03/cropped-homepage-scaled-1.jpg
END:VEVENT
END:VCALENDAR