BEGIN:VCALENDAR
VERSION:2.0
PRODID:-//Ghost Rider MTB - ECPv6.15.14//NONSGML v1.0//EN
CALSCALE:GREGORIAN
METHOD:PUBLISH
X-ORIGINAL-URL:https://ghostridermtb.com
X-WR-CALDESC:Events for Ghost Rider MTB
REFRESH-INTERVAL;VALUE=DURATION:PT1H
X-Robots-Tag:noindex
X-PUBLISHED-TTL:PT1H
BEGIN:VTIMEZONE
TZID:America/Toronto
BEGIN:DAYLIGHT
TZOFFSETFROM:-0500
TZOFFSETTO:-0400
TZNAME:EDT
DTSTART:20220313T070000
END:DAYLIGHT
BEGIN:STANDARD
TZOFFSETFROM:-0400
TZOFFSETTO:-0500
TZNAME:EST
DTSTART:20221106T060000
END:STANDARD
BEGIN:DAYLIGHT
TZOFFSETFROM:-0500
TZOFFSETTO:-0400
TZNAME:EDT
DTSTART:20230312T070000
END:DAYLIGHT
BEGIN:STANDARD
TZOFFSETFROM:-0400
TZOFFSETTO:-0500
TZNAME:EST
DTSTART:20231105T060000
END:STANDARD
BEGIN:DAYLIGHT
TZOFFSETFROM:-0500
TZOFFSETTO:-0400
TZNAME:EDT
DTSTART:20240310T070000
END:DAYLIGHT
BEGIN:STANDARD
TZOFFSETFROM:-0400
TZOFFSETTO:-0500
TZNAME:EST
DTSTART:20241103T060000
END:STANDARD
END:VTIMEZONE
BEGIN:VEVENT
DTSTART;TZID=America/Toronto:20230904T100000
DTEND;TZID=America/Toronto:20230904T133000
DTSTAMP:20260424T004217
CREATED:20230826T204053Z
LAST-MODIFIED:20230829T205618Z
UID:928-1693821600-1693834200@ghostridermtb.com
SUMMARY:Three Stage rescheduled ride; long weekend Monday!
DESCRIPTION:Monday ride 10 am start. Expect 20 to 25Km \n Three Stage \nThree Stage North Parking lot: https://goo.gl/maps/mGgXTnknaMan1UNHA \nTrailforks Route: https://www.trailforks.com/route/3-stage-advanced-loop-corc/ \nThis is an Advanced ride. Challenge yourself on some of the best trails in the network. Experienced riders will appreciate the technical challenges of this route. Not beginner friendly. \nBring a chair\, snack or food & beverage for after the ride. \n  \n 
URL:https://ghostridermtb.com/event/three-stage-rescheduled-ride-long-weekend-monday/
LOCATION:Three Stage – North Parking lot\, https://goo.gl/maps/PG1t4Bt9MQvCqLrA9\, Town Of The Blue Mountains\, On\, N0H 2E0\, Canada
CATEGORIES:Rides
ATTACH;FMTTYPE=image/jpeg:https://ghostridermtb.com/wp-content/uploads/2023/07/20200905_114537.jpg
END:VEVENT
END:VCALENDAR