BEGIN:VCALENDAR
VERSION:2.0
PRODID:-//Ghost Rider MTB - ECPv6.15.14//NONSGML v1.0//EN
CALSCALE:GREGORIAN
METHOD:PUBLISH
X-WR-CALNAME:Ghost Rider MTB
X-ORIGINAL-URL:https://ghostridermtb.com
X-WR-CALDESC:Events for Ghost Rider MTB
REFRESH-INTERVAL;VALUE=DURATION:PT1H
X-Robots-Tag:noindex
X-PUBLISHED-TTL:PT1H
BEGIN:VTIMEZONE
TZID:America/Toronto
BEGIN:DAYLIGHT
TZOFFSETFROM:-0500
TZOFFSETTO:-0400
TZNAME:EDT
DTSTART:20220313T070000
END:DAYLIGHT
BEGIN:STANDARD
TZOFFSETFROM:-0400
TZOFFSETTO:-0500
TZNAME:EST
DTSTART:20221106T060000
END:STANDARD
BEGIN:DAYLIGHT
TZOFFSETFROM:-0500
TZOFFSETTO:-0400
TZNAME:EDT
DTSTART:20230312T070000
END:DAYLIGHT
BEGIN:STANDARD
TZOFFSETFROM:-0400
TZOFFSETTO:-0500
TZNAME:EST
DTSTART:20231105T060000
END:STANDARD
BEGIN:DAYLIGHT
TZOFFSETFROM:-0500
TZOFFSETTO:-0400
TZNAME:EDT
DTSTART:20240310T070000
END:DAYLIGHT
BEGIN:STANDARD
TZOFFSETFROM:-0400
TZOFFSETTO:-0500
TZNAME:EST
DTSTART:20241103T060000
END:STANDARD
END:VTIMEZONE
BEGIN:VEVENT
DTSTART;TZID=America/Toronto:20230827T093000
DTEND;TZID=America/Toronto:20230827T113000
DTSTAMP:20260424T020000
CREATED:20230826T194021Z
LAST-MODIFIED:20230826T194021Z
UID:926-1693128600-1693135800@ghostridermtb.com
SUMMARY:Jeffreson Forest Sunday morning ride
DESCRIPTION:We are riding Jefferson Forest on Sunday. \nStarting 9:30 from Bethesda side Rd parking lot. \nDmba is hosting a separate guided tour that we may start with and then branch off to our own random trails. \nExpect damp to hero dirt conditions\, mosquitos are still alive and chasing. \n90 to 120 minutes\, 20 to 30km of mixed green to black diamond rated trails. All weather and ground condition dependant. \nBring a chair and a beverage for after the ride.
URL:https://ghostridermtb.com/event/jeffreson-forest-sunday-morning-ride/
LOCATION:Jefferson Forest\, 1245 Bethesda Side Rd\, Richmond Hill\, Ontario\, L4E 1A2\, Canada
CATEGORIES:Rides
ATTACH;FMTTYPE=image/jpeg:https://ghostridermtb.com/wp-content/uploads/2023/04/IMG_20220716_151040_863.jpg
END:VEVENT
END:VCALENDAR