BEGIN:VCALENDAR
VERSION:2.0
PRODID:-//Ghost Rider MTB - ECPv6.15.14//NONSGML v1.0//EN
CALSCALE:GREGORIAN
METHOD:PUBLISH
X-WR-CALNAME:Ghost Rider MTB
X-ORIGINAL-URL:https://ghostridermtb.com
X-WR-CALDESC:Events for Ghost Rider MTB
REFRESH-INTERVAL;VALUE=DURATION:PT1H
X-Robots-Tag:noindex
X-PUBLISHED-TTL:PT1H
BEGIN:VTIMEZONE
TZID:America/Toronto
BEGIN:DAYLIGHT
TZOFFSETFROM:-0500
TZOFFSETTO:-0400
TZNAME:EDT
DTSTART:20220313T070000
END:DAYLIGHT
BEGIN:STANDARD
TZOFFSETFROM:-0400
TZOFFSETTO:-0500
TZNAME:EST
DTSTART:20221106T060000
END:STANDARD
BEGIN:DAYLIGHT
TZOFFSETFROM:-0500
TZOFFSETTO:-0400
TZNAME:EDT
DTSTART:20230312T070000
END:DAYLIGHT
BEGIN:STANDARD
TZOFFSETFROM:-0400
TZOFFSETTO:-0500
TZNAME:EST
DTSTART:20231105T060000
END:STANDARD
BEGIN:DAYLIGHT
TZOFFSETFROM:-0500
TZOFFSETTO:-0400
TZNAME:EDT
DTSTART:20240310T070000
END:DAYLIGHT
BEGIN:STANDARD
TZOFFSETFROM:-0400
TZOFFSETTO:-0500
TZNAME:EST
DTSTART:20241103T060000
END:STANDARD
END:VTIMEZONE
BEGIN:VEVENT
DTSTART;TZID=America/Toronto:20230820T100000
DTEND;TZID=America/Toronto:20230820T130000
DTSTAMP:20260424T020000
CREATED:20230816T195315Z
LAST-MODIFIED:20230816T195315Z
UID:915-1692525600-1692536400@ghostridermtb.com
SUMMARY:Greenwood Conservation - Sunday ride
DESCRIPTION:10 am start at the 8th Concession parking lot \nNorth Parking Lot – https://goo.gl/maps/Q79742A3SXPFdksL8 \nThere’s a lot of green rated trails here\, don’t let those fool you. \nhttps://www.trailforks.com/region/greenwood-conservation-area/ \nExpect about 17km maybe 1.5 to 2 hours. \nThis is an intermediate ride with available Pro lines. \nBring a chair & a beverage for after the ride.
URL:https://ghostridermtb.com/event/greenwood-conservation-sunday-ride/
LOCATION:Ontario
CATEGORIES:Rides
ATTACH;FMTTYPE=image/jpeg:https://ghostridermtb.com/wp-content/uploads/2023/08/20220417_115938.jpg
END:VEVENT
END:VCALENDAR