BEGIN:VCALENDAR
VERSION:2.0
PRODID:-//Ghost Rider MTB - ECPv6.15.14//NONSGML v1.0//EN
CALSCALE:GREGORIAN
METHOD:PUBLISH
X-ORIGINAL-URL:https://ghostridermtb.com
X-WR-CALDESC:Events for Ghost Rider MTB
REFRESH-INTERVAL;VALUE=DURATION:PT1H
X-Robots-Tag:noindex
X-PUBLISHED-TTL:PT1H
BEGIN:VTIMEZONE
TZID:America/Toronto
BEGIN:DAYLIGHT
TZOFFSETFROM:-0500
TZOFFSETTO:-0400
TZNAME:EDT
DTSTART:20220313T070000
END:DAYLIGHT
BEGIN:STANDARD
TZOFFSETFROM:-0400
TZOFFSETTO:-0500
TZNAME:EST
DTSTART:20221106T060000
END:STANDARD
BEGIN:DAYLIGHT
TZOFFSETFROM:-0500
TZOFFSETTO:-0400
TZNAME:EDT
DTSTART:20230312T070000
END:DAYLIGHT
BEGIN:STANDARD
TZOFFSETFROM:-0400
TZOFFSETTO:-0500
TZNAME:EST
DTSTART:20231105T060000
END:STANDARD
BEGIN:DAYLIGHT
TZOFFSETFROM:-0500
TZOFFSETTO:-0400
TZNAME:EDT
DTSTART:20240310T070000
END:DAYLIGHT
BEGIN:STANDARD
TZOFFSETFROM:-0400
TZOFFSETTO:-0500
TZNAME:EST
DTSTART:20241103T060000
END:STANDARD
END:VTIMEZONE
BEGIN:VEVENT
DTSTART;TZID=America/Toronto:20230813T100000
DTEND;TZID=America/Toronto:20230813T140000
DTSTAMP:20260424T020251
CREATED:20230409T212134Z
LAST-MODIFIED:20230812T215505Z
UID:637-1691920800-1691935200@ghostridermtb.com
SUMMARY:Albion Hills Sunday Ride
DESCRIPTION:Sunday ride 10 am start. Expect 25Km \n Albion Hills  \nAlbion Hills Parking: https://goo.gl/maps/ZVTLyM7qtnV19ET7A \nTrailforks Route: https://www.trailforks.com/goto/ro/27017/ \nThis is an Advanced ride. \nBring a chair & beverage for after the ride \n 
URL:https://ghostridermtb.com/event/three-stage-pretty-river-valley/
LOCATION:Three Stage – North Parking lot\, https://goo.gl/maps/PG1t4Bt9MQvCqLrA9\, Town Of The Blue Mountains\, On\, N0H 2E0\, Canada
CATEGORIES:Rides
END:VEVENT
END:VCALENDAR