BEGIN:VCALENDAR
VERSION:2.0
PRODID:-//Ghost Rider MTB - ECPv6.15.14//NONSGML v1.0//EN
CALSCALE:GREGORIAN
METHOD:PUBLISH
X-ORIGINAL-URL:https://ghostridermtb.com
X-WR-CALDESC:Events for Ghost Rider MTB
REFRESH-INTERVAL;VALUE=DURATION:PT1H
X-Robots-Tag:noindex
X-PUBLISHED-TTL:PT1H
BEGIN:VTIMEZONE
TZID:America/Toronto
BEGIN:DAYLIGHT
TZOFFSETFROM:-0500
TZOFFSETTO:-0400
TZNAME:EDT
DTSTART:20220313T070000
END:DAYLIGHT
BEGIN:STANDARD
TZOFFSETFROM:-0400
TZOFFSETTO:-0500
TZNAME:EST
DTSTART:20221106T060000
END:STANDARD
BEGIN:DAYLIGHT
TZOFFSETFROM:-0500
TZOFFSETTO:-0400
TZNAME:EDT
DTSTART:20230312T070000
END:DAYLIGHT
BEGIN:STANDARD
TZOFFSETFROM:-0400
TZOFFSETTO:-0500
TZNAME:EST
DTSTART:20231105T060000
END:STANDARD
BEGIN:DAYLIGHT
TZOFFSETFROM:-0500
TZOFFSETTO:-0400
TZNAME:EDT
DTSTART:20240310T070000
END:DAYLIGHT
BEGIN:STANDARD
TZOFFSETFROM:-0400
TZOFFSETTO:-0500
TZNAME:EST
DTSTART:20241103T060000
END:STANDARD
END:VTIMEZONE
BEGIN:VEVENT
DTSTART;TZID=America/Toronto:20230809T173000
DTEND;TZID=America/Toronto:20230809T193000
DTSTAMP:20260424T020507
CREATED:20230809T181751Z
LAST-MODIFIED:20230809T181751Z
UID:910-1691602200-1691609400@ghostridermtb.com
SUMMARY:Wednesday afternoon GCC day -9\, Secret to Flowster to Panda ride 5:30 ish
DESCRIPTION:Wed afternoon ride from Serena Gundy lot Start time – 5:30 pm ish.. \nRoute is general but not specifically fixed yet. \nSecret Hidden to Flowster\, 5\, 6 play\, Trail\, Road Apples\, Panda…… \nWe will decide if more then………………. \nMeetup locations \n1: Serena Gundy Parking Lot \n-Route 1:  Secret Hidden to Flowster entrance \nDifficulty: moderate to difficult. Technical climbs/descents with exposure \n2: Flowster Entrance\nTime: 6:00pm ish\nRoute: Flowster to Panda \nDifficulty: Moderate to difficult ie exposure\, narrow trails\, skinnies\, technical climbs\, bridges \nNote: \nHEAT is still on bring ample water. \nIt’s STILL mozzy season… and they’re ravenous! Unless you plan on feeding them\, apply your bug spray. \n 
URL:https://ghostridermtb.com/event/wednesday-afternoon-gcc-day-9-secret-to-flowster-to-panda-ride-530-ish/
LOCATION:Serena Gundy Parking Lot\, 58 Rykert Crescent\, Toronto\, Ontario\, M4G 2S9\, Canada
CATEGORIES:Rides
ATTACH;FMTTYPE=image/jpeg:https://ghostridermtb.com/wp-content/uploads/2023/03/20230307_202037-1.jpg
END:VEVENT
END:VCALENDAR