BEGIN:VCALENDAR
VERSION:2.0
PRODID:-//Ghost Rider MTB - ECPv6.15.14//NONSGML v1.0//EN
CALSCALE:GREGORIAN
METHOD:PUBLISH
X-WR-CALNAME:Ghost Rider MTB
X-ORIGINAL-URL:https://ghostridermtb.com
X-WR-CALDESC:Events for Ghost Rider MTB
REFRESH-INTERVAL;VALUE=DURATION:PT1H
X-Robots-Tag:noindex
X-PUBLISHED-TTL:PT1H
BEGIN:VTIMEZONE
TZID:America/Toronto
BEGIN:DAYLIGHT
TZOFFSETFROM:-0500
TZOFFSETTO:-0400
TZNAME:EDT
DTSTART:20220313T070000
END:DAYLIGHT
BEGIN:STANDARD
TZOFFSETFROM:-0400
TZOFFSETTO:-0500
TZNAME:EST
DTSTART:20221106T060000
END:STANDARD
BEGIN:DAYLIGHT
TZOFFSETFROM:-0500
TZOFFSETTO:-0400
TZNAME:EDT
DTSTART:20230312T070000
END:DAYLIGHT
BEGIN:STANDARD
TZOFFSETFROM:-0400
TZOFFSETTO:-0500
TZNAME:EST
DTSTART:20231105T060000
END:STANDARD
BEGIN:DAYLIGHT
TZOFFSETFROM:-0500
TZOFFSETTO:-0400
TZNAME:EDT
DTSTART:20240310T070000
END:DAYLIGHT
BEGIN:STANDARD
TZOFFSETFROM:-0400
TZOFFSETTO:-0500
TZNAME:EST
DTSTART:20241103T060000
END:STANDARD
END:VTIMEZONE
BEGIN:VEVENT
DTSTART;TZID=America/Toronto:20230802T180000
DTEND;TZID=America/Toronto:20230802T200000
DTSTAMP:20260424T020123
CREATED:20230802T181608Z
LAST-MODIFIED:20230802T181637Z
UID:896-1690999200-1691006400@ghostridermtb.com
SUMMARY:Wed GCC day 2 adhoc ride trying to get 20km
DESCRIPTION:Start from ET Seton Parking lot #2 \nStart time: Tentative 6:00pm (ish). \nRoute: TBD \nOption1: Topo to bot\, swamp\, Gundys\, Secret\, Rivers Edge\, swamp\, Boo\, Bunny\, then see.. \nOption2: flats to pottery\, pottery to 3rocks\, Sanitation\, ridge\, Portage\, training loop\, fruitloop\, back on gravel to ET Seton
URL:https://ghostridermtb.com/event/wed-gcc-day-2-adhoc-ride-trying-to-get-20km/
LOCATION:Et Seton #2 Parking lot\, E.T. Seton Park\, Area 2 701 Lower Don Recreation Trail\, Toronto\, Omtario\, Canada
CATEGORIES:Rides
ATTACH;FMTTYPE=image/jpeg:https://ghostridermtb.com/wp-content/uploads/2023/08/DJI_0763.jpg
END:VEVENT
END:VCALENDAR