BEGIN:VCALENDAR
VERSION:2.0
PRODID:-//Ghost Rider MTB - ECPv6.15.14//NONSGML v1.0//EN
CALSCALE:GREGORIAN
METHOD:PUBLISH
X-WR-CALNAME:Ghost Rider MTB
X-ORIGINAL-URL:https://ghostridermtb.com
X-WR-CALDESC:Events for Ghost Rider MTB
REFRESH-INTERVAL;VALUE=DURATION:PT1H
X-Robots-Tag:noindex
X-PUBLISHED-TTL:PT1H
BEGIN:VTIMEZONE
TZID:America/Toronto
BEGIN:DAYLIGHT
TZOFFSETFROM:-0500
TZOFFSETTO:-0400
TZNAME:EDT
DTSTART:20220313T070000
END:DAYLIGHT
BEGIN:STANDARD
TZOFFSETFROM:-0400
TZOFFSETTO:-0500
TZNAME:EST
DTSTART:20221106T060000
END:STANDARD
BEGIN:DAYLIGHT
TZOFFSETFROM:-0500
TZOFFSETTO:-0400
TZNAME:EDT
DTSTART:20230312T070000
END:DAYLIGHT
BEGIN:STANDARD
TZOFFSETFROM:-0400
TZOFFSETTO:-0500
TZNAME:EST
DTSTART:20231105T060000
END:STANDARD
BEGIN:DAYLIGHT
TZOFFSETFROM:-0500
TZOFFSETTO:-0400
TZNAME:EDT
DTSTART:20240310T070000
END:DAYLIGHT
BEGIN:STANDARD
TZOFFSETFROM:-0400
TZOFFSETTO:-0500
TZNAME:EST
DTSTART:20241103T060000
END:STANDARD
END:VTIMEZONE
BEGIN:VEVENT
DTSTART;TZID=America/Toronto:20230801T173000
DTEND;TZID=America/Toronto:20230801T200000
DTSTAMP:20260424T020001
CREATED:20230801T133653Z
LAST-MODIFIED:20230801T134131Z
UID:891-1690911000-1690920000@ghostridermtb.com
SUMMARY:Great Cycle Challenge Canada ride Day 01 Serena to Tommy Thompson Lighthouse
DESCRIPTION:The Great Cycle Challenge Canada 2023. We kick off with a ride from Serena Gundy Park to Tommy Thompson Lighthouse & back. \nStart time: Tentative 5:30pm (ish). We can meet up with people along the way. \nRoute: Serena\, Swamp\, Boo\, Flats\, 3 Rocks to Pottery\, Down Bayview\, Through the Port Lands to Tommy Thompson light house & then back….. \nSponsor the Ghost Rider MTB team at: \nhttps://greatcyclechallenge.ca/Teams/GhostRiderMTB \nCancer is the largest killer of kids in Canada\, 27 children are diagnosed every week. Please donate now and support my challenge to fight kids’ cancer! \nThis August\, we are taking part in the Great Cycle Challenge to fight kids’ cancer! \nWhy? Because right now\, over 1\,700 children are diagnosed with cancer every year\, and it’s the biggest killer of children from disease in Canada. \nKids should be living life\, not fighting for it. \nSo we are raising funds through this challenge to help these kids and support SickKids Foundation to allow them to continue their work in developing treatments and finding a cure for childhood cancer. \nPlease support us by making a donation to give these kids the brighter futures they deserve. \nYour support will change little lives. \nThank you.
URL:https://ghostridermtb.com/event/great-cycle-challenge-canada-ride-day-01-serena-to-tommy-thompson-lighthouse/
LOCATION:Serena Gundy Parking Lot\, 58 Rykert Crescent\, Toronto\, Ontario\, M4G 2S9\, Canada
ATTACH;FMTTYPE=image/jpeg:https://ghostridermtb.com/wp-content/uploads/2023/08/GCC-2023Poster.jpg
END:VEVENT
END:VCALENDAR