BEGIN:VCALENDAR
VERSION:2.0
PRODID:-//Ghost Rider MTB - ECPv6.15.14//NONSGML v1.0//EN
CALSCALE:GREGORIAN
METHOD:PUBLISH
X-ORIGINAL-URL:https://ghostridermtb.com
X-WR-CALDESC:Events for Ghost Rider MTB
REFRESH-INTERVAL;VALUE=DURATION:PT1H
X-Robots-Tag:noindex
X-PUBLISHED-TTL:PT1H
BEGIN:VTIMEZONE
TZID:America/Toronto
BEGIN:DAYLIGHT
TZOFFSETFROM:-0500
TZOFFSETTO:-0400
TZNAME:EDT
DTSTART:20220313T070000
END:DAYLIGHT
BEGIN:STANDARD
TZOFFSETFROM:-0400
TZOFFSETTO:-0500
TZNAME:EST
DTSTART:20221106T060000
END:STANDARD
BEGIN:DAYLIGHT
TZOFFSETFROM:-0500
TZOFFSETTO:-0400
TZNAME:EDT
DTSTART:20230312T070000
END:DAYLIGHT
BEGIN:STANDARD
TZOFFSETFROM:-0400
TZOFFSETTO:-0500
TZNAME:EST
DTSTART:20231105T060000
END:STANDARD
BEGIN:DAYLIGHT
TZOFFSETFROM:-0500
TZOFFSETTO:-0400
TZNAME:EDT
DTSTART:20240310T070000
END:DAYLIGHT
BEGIN:STANDARD
TZOFFSETFROM:-0400
TZOFFSETTO:-0500
TZNAME:EST
DTSTART:20241103T060000
END:STANDARD
END:VTIMEZONE
BEGIN:VEVENT
DTSTART;TZID=America/Toronto:20230726T100000
DTEND;TZID=America/Toronto:20230726T140000
DTSTAMP:20260424T033259
CREATED:20230720T170913Z
LAST-MODIFIED:20230720T170913Z
UID:884-1690365600-1690380000@ghostridermtb.com
SUMMARY:Shabomeka Lake Random Ride
DESCRIPTION:We are headed to Shabomeka Lake trail system for an exploration Adventure ride. Over July 18 & 19th major trail clearing has occurred. \nhttps://www.trailforks.com/region/shabomeka-lake/ \nThe central trails just south of the parking lot have been cleared this week. \nMeetup location : Parking area \nTime: 9:45 am ish\nRoute: Includes trails: 2\, 2F\, 2B\, 4C\, 6A\, 4\, 4B \nDifficulty: Moderate to difficult & unknown \nNote: \nBring water\, lots of it. A chair\, beverage & food for after the ride. \nIt’s STILL mozzy season… and they’re ravenous! Unless you plan on feeding them\, apply your bug spray.
URL:https://ghostridermtb.com/event/shabomeka-lake-random-ride/
LOCATION:Shabomeka lake\, Higgins Ln\, North Frontenac\, On\, K0H 1K0\, Canada
CATEGORIES:Rides
ATTACH;FMTTYPE=image/jpeg:https://ghostridermtb.com/wp-content/uploads/2023/03/homepage-scaled.jpg
END:VEVENT
END:VCALENDAR