BEGIN:VCALENDAR
VERSION:2.0
PRODID:-//Ghost Rider MTB - ECPv6.15.14//NONSGML v1.0//EN
CALSCALE:GREGORIAN
METHOD:PUBLISH
X-WR-CALNAME:Ghost Rider MTB
X-ORIGINAL-URL:https://ghostridermtb.com
X-WR-CALDESC:Events for Ghost Rider MTB
REFRESH-INTERVAL;VALUE=DURATION:PT1H
X-Robots-Tag:noindex
X-PUBLISHED-TTL:PT1H
BEGIN:VTIMEZONE
TZID:America/Toronto
BEGIN:DAYLIGHT
TZOFFSETFROM:-0500
TZOFFSETTO:-0400
TZNAME:EDT
DTSTART:20220313T070000
END:DAYLIGHT
BEGIN:STANDARD
TZOFFSETFROM:-0400
TZOFFSETTO:-0500
TZNAME:EST
DTSTART:20221106T060000
END:STANDARD
BEGIN:DAYLIGHT
TZOFFSETFROM:-0500
TZOFFSETTO:-0400
TZNAME:EDT
DTSTART:20230312T070000
END:DAYLIGHT
BEGIN:STANDARD
TZOFFSETFROM:-0400
TZOFFSETTO:-0500
TZNAME:EST
DTSTART:20231105T060000
END:STANDARD
BEGIN:DAYLIGHT
TZOFFSETFROM:-0500
TZOFFSETTO:-0400
TZNAME:EDT
DTSTART:20240310T070000
END:DAYLIGHT
BEGIN:STANDARD
TZOFFSETFROM:-0400
TZOFFSETTO:-0500
TZNAME:EST
DTSTART:20241103T060000
END:STANDARD
END:VTIMEZONE
BEGIN:VEVENT
DTSTART;TZID=America/Toronto:20230723T100000
DTEND;TZID=America/Toronto:20230723T140000
DTSTAMP:20260424T033054
CREATED:20230715T201237Z
LAST-MODIFIED:20230715T201237Z
UID:876-1690106400-1690120800@ghostridermtb.com
SUMMARY:Rain date - Porcupine Ridge Redemption ride – Bracebridge
DESCRIPTION:Rescheduled to July 23rd 10:00 am – 1:30 pm\n\n\n\nSunday Ride at Porcupine Ridge.  10 am start. Expect 10-15 Km \nhttps://www.trailforks.com/region/porcupine-ridge-6047/ \nThis is a Very Advanced ride. There are Pro line sections to be visited. \n\nParking at : the South Parking lot \nhttps://goo.gl/maps/5MLHGaaa8WMUFd3X8 \nRoute Porcupine Ridge Route \nDifficulty: Moderate to Extremely difficult ie Rocks\, Rocks & more Rocks\, exposure\, narrow trails\, skinnies\, technical climbs\, bridges..\n \nNote: \nHEAT is still on bring ample water. \nIt’s STILL mozzy season… and they’re ravenous! Unless you plan on feeding them\, apply your bug spray. \nBring a chair\, food & beverage for after the ride. \nRain Date: 23rd July \n\n 
URL:https://ghostridermtb.com/event/rain-date-porcupine-ridge-redemption-ride-bracebridge/
LOCATION:Porcupine Ridge – Bracebridge
CATEGORIES:Rides
ATTACH;FMTTYPE=image/jpeg:https://ghostridermtb.com/wp-content/uploads/2023/07/20200905_114537.jpg
END:VEVENT
END:VCALENDAR