BEGIN:VCALENDAR
VERSION:2.0
PRODID:-//Ghost Rider MTB - ECPv6.15.14//NONSGML v1.0//EN
CALSCALE:GREGORIAN
METHOD:PUBLISH
X-ORIGINAL-URL:https://ghostridermtb.com
X-WR-CALDESC:Events for Ghost Rider MTB
REFRESH-INTERVAL;VALUE=DURATION:PT1H
X-Robots-Tag:noindex
X-PUBLISHED-TTL:PT1H
BEGIN:VTIMEZONE
TZID:America/Toronto
BEGIN:DAYLIGHT
TZOFFSETFROM:-0500
TZOFFSETTO:-0400
TZNAME:EDT
DTSTART:20220313T070000
END:DAYLIGHT
BEGIN:STANDARD
TZOFFSETFROM:-0400
TZOFFSETTO:-0500
TZNAME:EST
DTSTART:20221106T060000
END:STANDARD
BEGIN:DAYLIGHT
TZOFFSETFROM:-0500
TZOFFSETTO:-0400
TZNAME:EDT
DTSTART:20230312T070000
END:DAYLIGHT
BEGIN:STANDARD
TZOFFSETFROM:-0400
TZOFFSETTO:-0500
TZNAME:EST
DTSTART:20231105T060000
END:STANDARD
BEGIN:DAYLIGHT
TZOFFSETFROM:-0500
TZOFFSETTO:-0400
TZNAME:EDT
DTSTART:20240310T070000
END:DAYLIGHT
BEGIN:STANDARD
TZOFFSETFROM:-0400
TZOFFSETTO:-0500
TZNAME:EST
DTSTART:20241103T060000
END:STANDARD
END:VTIMEZONE
BEGIN:VEVENT
DTSTART;TZID=America/Toronto:20230710T180000
DTEND;TZID=America/Toronto:20230710T203000
DTSTAMP:20260424T033231
CREATED:20230710T132613Z
LAST-MODIFIED:20230710T133506Z
UID:864-1689012000-1689021000@ghostridermtb.com
SUMMARY:Beat the rain Monday afternoon Don Valley ride 6:00pm-ish
DESCRIPTION:Monday afternoon ride from Loblaws Parking lot Start time – 6:00pm ish.. \nRoute is general but not specifically fixed yet. \nEast through Sanitation Plant\, The Ridge\, to Cricket Tree. \nWe will decide on Beaver Flats or Topo to Bot. \nThen maybe up to Leviathan & back South on Bunny Run/Poop\, then  we will see how the heat is affecting people during the ride.. \nMeetup locations \n1: Loblaws Parking Lot (Redway Road) \n-Route:  3 Rocks/Sanitation/Ridge to Cricket Tree \nDifficulty: moderate. Technical climbs/descents. \n2: Cricket Tree\nTime: 6:50– 6:55pm ish\nRoute: TBD then /Bunny Run/Poop/Flats back to 3 Rocks. \nDifficulty: Moderate to difficult ie exposure\, narrow trails\, skinnies\, technical climbs\, bridges \nNote: \nHEAT is still on bring ample water. \nIt’s STILL mozzy season… and they’re ravenous! Unless you plan on feeding them\, apply your bug spray.
URL:https://ghostridermtb.com/event/beat-the-rain-monday-afternoon-don-valley-ride-600pm-ish/
LOCATION:Loblaws Parking lot – Crothers Woods -Redway Rd\, Crothers Woods Trail\, Toronto\, On\, M4H 1P6\, Canada
CATEGORIES:Rides
ATTACH;FMTTYPE=image/jpeg:https://ghostridermtb.com/wp-content/uploads/2023/05/20230511_175702-scaled.jpg
END:VEVENT
END:VCALENDAR