BEGIN:VCALENDAR
VERSION:2.0
PRODID:-//Ghost Rider MTB - ECPv6.15.14//NONSGML v1.0//EN
CALSCALE:GREGORIAN
METHOD:PUBLISH
X-ORIGINAL-URL:https://ghostridermtb.com
X-WR-CALDESC:Events for Ghost Rider MTB
REFRESH-INTERVAL;VALUE=DURATION:PT1H
X-Robots-Tag:noindex
X-PUBLISHED-TTL:PT1H
BEGIN:VTIMEZONE
TZID:America/Toronto
BEGIN:DAYLIGHT
TZOFFSETFROM:-0500
TZOFFSETTO:-0400
TZNAME:EDT
DTSTART:20220313T070000
END:DAYLIGHT
BEGIN:STANDARD
TZOFFSETFROM:-0400
TZOFFSETTO:-0500
TZNAME:EST
DTSTART:20221106T060000
END:STANDARD
BEGIN:DAYLIGHT
TZOFFSETFROM:-0500
TZOFFSETTO:-0400
TZNAME:EDT
DTSTART:20230312T070000
END:DAYLIGHT
BEGIN:STANDARD
TZOFFSETFROM:-0400
TZOFFSETTO:-0500
TZNAME:EST
DTSTART:20231105T060000
END:STANDARD
BEGIN:DAYLIGHT
TZOFFSETFROM:-0500
TZOFFSETTO:-0400
TZNAME:EDT
DTSTART:20240310T070000
END:DAYLIGHT
BEGIN:STANDARD
TZOFFSETFROM:-0400
TZOFFSETTO:-0500
TZNAME:EST
DTSTART:20241103T060000
END:STANDARD
END:VTIMEZONE
BEGIN:VEVENT
DTSTART;TZID=America/Toronto:20230706T180000
DTEND;TZID=America/Toronto:20230706T203000
DTSTAMP:20260424T033234
CREATED:20230705T175504Z
LAST-MODIFIED:20230705T175504Z
UID:853-1688666400-1688675400@ghostridermtb.com
SUMMARY:Thursday's dodge the Thunderstorm Heatwave ride
DESCRIPTION:Thursday 06 July\, afternoon ride from Loblaws Parking lot. Start time – 6pm ish.. \nRide will be contingent on thunderstorm forecast & the level of heat. Temps are forecast for 29 to 33C & Humidex will make it feel like 37 – 40C \nRoute is general but not specifically fixed yet. \nEast through Sanitation Plant\, The Ridge\, to Cricket Tree. \nWith the crazy heat warning we will ride Beaver Flats \nThen maybe up to Leviathan\, up Swamp\, MAYBE around the Gundy trails & back South on Bunny Run/Poop\, then  we will see how the heat is affecting people during the ride.. Possible Training loop or Fruitloop. \nMeetup location 1: Loblaws Parking Lot (Redway Road) Route: \n3 Rocks/Sanitation/Ridge to Cricket Tree \nDifficulty: moderate. Technical climbs/descents. \nMeetup location 2: Cricket Tree\nTime: 6:30– 6:35pm ish\nRoute: Topo/Catalyst/PA/Bunny Run/Flats back to 3 Rocks. \nDifficulty: Moderate to difficult ie exposure\, narrow trails\, skinnies\, technical climbs\, bridges \nNote: \nHEAT WARNING! It’s a stinker of a day\, bring ample water. Anyone meeting us at Loblaws parking\, we will have limited frozen Fat Boy coconut water to hand out. \nIt’s STILL mozzy season… and they’re ravenous! Unless you plan on feeding them\, apply your bug spray.
URL:https://ghostridermtb.com/event/thursdays-dodge-the-thunderstorm-heatwave-ride/
LOCATION:Loblaws Parking lot – Crothers Woods -Redway Rd\, Crothers Woods Trail\, Toronto\, On\, M4H 1P6\, Canada
CATEGORIES:Events
ATTACH;FMTTYPE=image/jpeg:https://ghostridermtb.com/wp-content/uploads/2023/07/20230704_201622.jpg
END:VEVENT
END:VCALENDAR