BEGIN:VCALENDAR
VERSION:2.0
PRODID:-//Ghost Rider MTB - ECPv6.15.14//NONSGML v1.0//EN
CALSCALE:GREGORIAN
METHOD:PUBLISH
X-WR-CALNAME:Ghost Rider MTB
X-ORIGINAL-URL:https://ghostridermtb.com
X-WR-CALDESC:Events for Ghost Rider MTB
REFRESH-INTERVAL;VALUE=DURATION:PT1H
X-Robots-Tag:noindex
X-PUBLISHED-TTL:PT1H
BEGIN:VTIMEZONE
TZID:America/Toronto
BEGIN:DAYLIGHT
TZOFFSETFROM:-0500
TZOFFSETTO:-0400
TZNAME:EDT
DTSTART:20220313T070000
END:DAYLIGHT
BEGIN:STANDARD
TZOFFSETFROM:-0400
TZOFFSETTO:-0500
TZNAME:EST
DTSTART:20221106T060000
END:STANDARD
BEGIN:DAYLIGHT
TZOFFSETFROM:-0500
TZOFFSETTO:-0400
TZNAME:EDT
DTSTART:20230312T070000
END:DAYLIGHT
BEGIN:STANDARD
TZOFFSETFROM:-0400
TZOFFSETTO:-0500
TZNAME:EST
DTSTART:20231105T060000
END:STANDARD
BEGIN:DAYLIGHT
TZOFFSETFROM:-0500
TZOFFSETTO:-0400
TZNAME:EDT
DTSTART:20240310T070000
END:DAYLIGHT
BEGIN:STANDARD
TZOFFSETFROM:-0400
TZOFFSETTO:-0500
TZNAME:EST
DTSTART:20241103T060000
END:STANDARD
END:VTIMEZONE
BEGIN:VEVENT
DTSTART;TZID=America/Toronto:20230629T080000
DTEND;TZID=America/Toronto:20230701T170000
DTSTAMP:20260424T033054
CREATED:20230409T205855Z
LAST-MODIFIED:20230627T005406Z
UID:623-1688025600-1688230800@ghostridermtb.com
SUMMARY:Hiawatha Highlands - Sault Ste Marie
DESCRIPTION:https://www.trailforks.com/region/hiawatha-highlands/?activitytype=1&z=13.7&lat=46.58452&lon=-84.28292 \nWe’re off to Hiawatha Highlands in Sault Ste Marie for the Canada Day long weekend. \nWe are watching the weather & plan to ride Hiawatha on Thursday & Friday from 10 am-ish onwards. Splitting the rides into 2 separate days gives us time to explore the East & then West side trails at a leisurely pace. \nAnyone interested in joining in or guiding through the best trails is welcome. \nParking at one of the two following locations: \nHiawatha Highlands Mountain Biking – Crystal Trailhead\nSault Ste. Marie\, ON P6A 6J8\n\nhttps://goo.gl/maps/Tgr55Er1ivZYJqEB6 \nor \nhttps://goo.gl/maps/pQmdSSi2ZHVXVpAX9 \n  \n\n \n 
URL:https://ghostridermtb.com/event/hiawatha-highlands-sault-ste-marie/
LOCATION:Ontario
CATEGORIES:Rides
ATTACH;FMTTYPE=image/jpeg:https://ghostridermtb.com/wp-content/uploads/2023/04/Thumb-004-scaled.jpg
END:VEVENT
END:VCALENDAR