BEGIN:VCALENDAR
VERSION:2.0
PRODID:-//Ghost Rider MTB - ECPv6.15.14//NONSGML v1.0//EN
CALSCALE:GREGORIAN
METHOD:PUBLISH
X-WR-CALNAME:Ghost Rider MTB
X-ORIGINAL-URL:https://ghostridermtb.com
X-WR-CALDESC:Events for Ghost Rider MTB
REFRESH-INTERVAL;VALUE=DURATION:PT1H
X-Robots-Tag:noindex
X-PUBLISHED-TTL:PT1H
BEGIN:VTIMEZONE
TZID:America/Toronto
BEGIN:DAYLIGHT
TZOFFSETFROM:-0500
TZOFFSETTO:-0400
TZNAME:EDT
DTSTART:20220313T070000
END:DAYLIGHT
BEGIN:STANDARD
TZOFFSETFROM:-0400
TZOFFSETTO:-0500
TZNAME:EST
DTSTART:20221106T060000
END:STANDARD
BEGIN:DAYLIGHT
TZOFFSETFROM:-0500
TZOFFSETTO:-0400
TZNAME:EDT
DTSTART:20230312T070000
END:DAYLIGHT
BEGIN:STANDARD
TZOFFSETFROM:-0400
TZOFFSETTO:-0500
TZNAME:EST
DTSTART:20231105T060000
END:STANDARD
BEGIN:DAYLIGHT
TZOFFSETFROM:-0500
TZOFFSETTO:-0400
TZNAME:EDT
DTSTART:20240310T070000
END:DAYLIGHT
BEGIN:STANDARD
TZOFFSETFROM:-0400
TZOFFSETTO:-0500
TZNAME:EST
DTSTART:20241103T060000
END:STANDARD
END:VTIMEZONE
BEGIN:VEVENT
DTSTART;TZID=America/Toronto:20230521T100000
DTEND;TZID=America/Toronto:20230521T133000
DTSTAMP:20260424T081006
CREATED:20230409T203532Z
LAST-MODIFIED:20230409T203550Z
UID:609-1684663200-1684675800@ghostridermtb.com
SUMMARY:The Hydrocut
DESCRIPTION:Sunday ride at The Hydrocut. 10 am start. Expect 25Km \nhttps://www.trailforks.com/region/the-hydrocut/ \nThis is a intermediate to advanced ride. \nParking at : the Pines Parking lot \nhttps://goo.gl/maps/SKv2rBZcw51xc2vt5 \nBring a chair & beverage for after the ride \nRain Date: 28th May
URL:https://ghostridermtb.com/event/the-hydrocut/
LOCATION:The Hydrocut – Pines Parking Lot\, 1910 Snyder's Rd E\, Petersburg\, On\, N0B 2H0\, Canada
CATEGORIES:Rides
END:VEVENT
END:VCALENDAR