BEGIN:VCALENDAR
VERSION:2.0
PRODID:-//Ghost Rider MTB - ECPv6.15.14//NONSGML v1.0//EN
CALSCALE:GREGORIAN
METHOD:PUBLISH
X-ORIGINAL-URL:https://ghostridermtb.com
X-WR-CALDESC:Events for Ghost Rider MTB
REFRESH-INTERVAL;VALUE=DURATION:PT1H
X-Robots-Tag:noindex
X-PUBLISHED-TTL:PT1H
BEGIN:VTIMEZONE
TZID:America/Toronto
BEGIN:DAYLIGHT
TZOFFSETFROM:-0500
TZOFFSETTO:-0400
TZNAME:EDT
DTSTART:20220313T070000
END:DAYLIGHT
BEGIN:STANDARD
TZOFFSETFROM:-0400
TZOFFSETTO:-0500
TZNAME:EST
DTSTART:20221106T060000
END:STANDARD
BEGIN:DAYLIGHT
TZOFFSETFROM:-0500
TZOFFSETTO:-0400
TZNAME:EDT
DTSTART:20230312T070000
END:DAYLIGHT
BEGIN:STANDARD
TZOFFSETFROM:-0400
TZOFFSETTO:-0500
TZNAME:EST
DTSTART:20231105T060000
END:STANDARD
BEGIN:DAYLIGHT
TZOFFSETFROM:-0500
TZOFFSETTO:-0400
TZNAME:EDT
DTSTART:20240310T070000
END:DAYLIGHT
BEGIN:STANDARD
TZOFFSETFROM:-0400
TZOFFSETTO:-0500
TZNAME:EST
DTSTART:20241103T060000
END:STANDARD
END:VTIMEZONE
BEGIN:VEVENT
DTSTART;TZID=America/Toronto:20230509T183000
DTEND;TZID=America/Toronto:20230509T203000
DTSTAMP:20260424T063258
CREATED:20230409T214018Z
LAST-MODIFIED:20230505T160525Z
UID:655-1683657000-1683664200@ghostridermtb.com
SUMMARY:Dawn's Motown Rip Series\, #4/6 rides - Rating Blue/Black
DESCRIPTION:Dawn’s Motown Rip Series\, #4/6 rides – Rating Blue/Black – Intermediate level changing to advanced as the rides progress due to the effort & pace require to keep up. \nThese are NOT beginner level rides. \n“Dawn’s Motown Fitness Rip series” is focused on Motown. Getting there and back is the warmup & cooldown…. \nStarting from Serena Gundy\, heading South to Motown\, may or may not include trails before\, at the east end & back along STD\, or Fruit Loop. \nStart/End point: https://goo.gl/maps/3wGJYoA9wToiuFGZ7 \nhttps://www.trailforks.com/trails/motown/ \nAll rides subject to weather & trail conditions\, cancellation or expansion at a short notice. \nLights may or may not be required based on time of year.
URL:https://ghostridermtb.com/event/dawns-motown-rip-series-4-6-rides-rating-blue-black/
LOCATION:Serena Gundy Parking Lot\, 58 Rykert Crescent\, Toronto\, Ontario\, M4G 2S9\, Canada
CATEGORIES:Rides
ATTACH;FMTTYPE=image/jpeg:https://ghostridermtb.com/wp-content/uploads/2023/04/20220507_115900_002-scaled-e1681155564832.jpg
END:VEVENT
END:VCALENDAR