BEGIN:VCALENDAR
VERSION:2.0
PRODID:-//Ghost Rider MTB - ECPv6.15.14//NONSGML v1.0//EN
CALSCALE:GREGORIAN
METHOD:PUBLISH
X-WR-CALNAME:Ghost Rider MTB
X-ORIGINAL-URL:https://ghostridermtb.com
X-WR-CALDESC:Events for Ghost Rider MTB
REFRESH-INTERVAL;VALUE=DURATION:PT1H
X-Robots-Tag:noindex
X-PUBLISHED-TTL:PT1H
BEGIN:VTIMEZONE
TZID:America/Toronto
BEGIN:DAYLIGHT
TZOFFSETFROM:-0500
TZOFFSETTO:-0400
TZNAME:EDT
DTSTART:20220313T070000
END:DAYLIGHT
BEGIN:STANDARD
TZOFFSETFROM:-0400
TZOFFSETTO:-0500
TZNAME:EST
DTSTART:20221106T060000
END:STANDARD
BEGIN:DAYLIGHT
TZOFFSETFROM:-0500
TZOFFSETTO:-0400
TZNAME:EDT
DTSTART:20230312T070000
END:DAYLIGHT
BEGIN:STANDARD
TZOFFSETFROM:-0400
TZOFFSETTO:-0500
TZNAME:EST
DTSTART:20231105T060000
END:STANDARD
BEGIN:DAYLIGHT
TZOFFSETFROM:-0500
TZOFFSETTO:-0400
TZNAME:EDT
DTSTART:20240310T070000
END:DAYLIGHT
BEGIN:STANDARD
TZOFFSETFROM:-0400
TZOFFSETTO:-0500
TZNAME:EST
DTSTART:20241103T060000
END:STANDARD
END:VTIMEZONE
BEGIN:VEVENT
DTSTART;TZID=America/Toronto:20230507T100000
DTEND;TZID=America/Toronto:20230507T133000
DTSTAMP:20260424T063000
CREATED:20230409T202307Z
LAST-MODIFIED:20230502T160112Z
UID:601-1683453600-1683466200@ghostridermtb.com
SUMMARY:Turkey Point Big Ride 30km+
DESCRIPTION:We are rolling to Turkey Point on Sunday\, start time 10:00 am \nExpect 30Km of mostly flow trails. \nBring a beverage and a chair for after the ride. \nTwo routes up for grabs: #1 is 40Km\, #2 is 32Km. \n1: https://www.trailforks.com/ridelog/planner/view/403705/ \n2: https://www.trailforks.com/ridelog/planner/view/403710/ \nhttps://www.trailforks.com/region/turkey-point/ \nEco Center Parking \nhttps://goo.gl/maps/VHWXbLMUb1uXy1kY6 \nRide subject to weather & trail conditions. Rain Date May 14th
URL:https://ghostridermtb.com/event/turkey-point-big-ride-30km/
LOCATION:Turkey Point – Eco Center Parking\, 1730 Front Rd\, St Williams\, Ontario\, N0E 1P0\, Canada
CATEGORIES:Rides
END:VEVENT
END:VCALENDAR