BEGIN:VCALENDAR
VERSION:2.0
PRODID:-//Ghost Rider MTB - ECPv6.15.14//NONSGML v1.0//EN
CALSCALE:GREGORIAN
METHOD:PUBLISH
X-ORIGINAL-URL:https://ghostridermtb.com
X-WR-CALDESC:Events for Ghost Rider MTB
REFRESH-INTERVAL;VALUE=DURATION:PT1H
X-Robots-Tag:noindex
X-PUBLISHED-TTL:PT1H
BEGIN:VTIMEZONE
TZID:America/Toronto
BEGIN:DAYLIGHT
TZOFFSETFROM:-0500
TZOFFSETTO:-0400
TZNAME:EDT
DTSTART:20220313T070000
END:DAYLIGHT
BEGIN:STANDARD
TZOFFSETFROM:-0400
TZOFFSETTO:-0500
TZNAME:EST
DTSTART:20221106T060000
END:STANDARD
BEGIN:DAYLIGHT
TZOFFSETFROM:-0500
TZOFFSETTO:-0400
TZNAME:EDT
DTSTART:20230312T070000
END:DAYLIGHT
BEGIN:STANDARD
TZOFFSETFROM:-0400
TZOFFSETTO:-0500
TZNAME:EST
DTSTART:20231105T060000
END:STANDARD
BEGIN:DAYLIGHT
TZOFFSETFROM:-0500
TZOFFSETTO:-0400
TZNAME:EDT
DTSTART:20240310T070000
END:DAYLIGHT
BEGIN:STANDARD
TZOFFSETFROM:-0400
TZOFFSETTO:-0500
TZNAME:EST
DTSTART:20241103T060000
END:STANDARD
END:VTIMEZONE
BEGIN:VEVENT
DTSTART;TZID=America/Toronto:20230427T183000
DTEND;TZID=America/Toronto:20230427T203000
DTSTAMP:20260424T081149
CREATED:20230426T133814Z
LAST-MODIFIED:20230426T133814Z
UID:710-1682620200-1682627400@ghostridermtb.com
SUMMARY:Ridge Ride & more from Loblaws
DESCRIPTION:Thursday after work ride starting at Loblaws paring on Redway Road\, heading east through the Ridge trail. Trails that might be in the route are Beaver flats\, Climbmax. Bunny Run\, Poop\, Training Loop\, Flats.. \nThis is a intermediate to advanced ride. \nParking at : Loblaws Parking lot on Redway Rd. \nhttps://goo.gl/maps/Ls6xBvVcT4P98fWv6 \nRain Date: N/A
URL:https://ghostridermtb.com/event/ridge-ride-more-from-loblaws/
LOCATION:Loblaws Parking lot – Crothers Woods -Redway Rd\, Crothers Woods Trail\, Toronto\, On\, M4H 1P6\, Canada
CATEGORIES:Rides
ATTACH;FMTTYPE=image/jpeg:https://ghostridermtb.com/wp-content/uploads/2023/04/20220420_174100_002-scaled.jpg
END:VEVENT
END:VCALENDAR