BEGIN:VCALENDAR
VERSION:2.0
PRODID:-//Ghost Rider MTB - ECPv6.15.14//NONSGML v1.0//EN
CALSCALE:GREGORIAN
METHOD:PUBLISH
X-WR-CALNAME:Ghost Rider MTB
X-ORIGINAL-URL:https://ghostridermtb.com
X-WR-CALDESC:Events for Ghost Rider MTB
REFRESH-INTERVAL;VALUE=DURATION:PT1H
X-Robots-Tag:noindex
X-PUBLISHED-TTL:PT1H
BEGIN:VTIMEZONE
TZID:UTC
BEGIN:STANDARD
TZOFFSETFROM:+0000
TZOFFSETTO:+0000
TZNAME:UTC
DTSTART:20220101T000000
END:STANDARD
END:VTIMEZONE
BEGIN:VEVENT
DTSTART;TZID=UTC:20230425T183000
DTEND;TZID=UTC:20230425T203000
DTSTAMP:20260424T081007
CREATED:20230402T221510Z
LAST-MODIFIED:20230409T214129Z
UID:460-1682447400-1682454600@ghostridermtb.com
SUMMARY:Dawn's Motown Rip Series - #2/6 rides - Rating Blue/Black
DESCRIPTION:Dawn’s Motown Rip Series\, #2/6 rides – Rating Blue/Black – Intermediate level changing to advanced as the rides progress due to the effort & pace require to keep up. \nThese are NOT beginner level rides. \n“Dawn’s Motown Fitness Rip series” is focused on Motown. Getting there and back is the warmup & cooldown…. \nStarting from Serena Gundy\, ET Seton\, or Loblaws (TBD)\, heading South to Motown\, may or may not include trails before\, at the east end & back along STD\, or Fruit Loop. \nStart/End point: https://goo.gl/maps/3wGJYoA9wToiuFGZ7 \nhttps://www.trailforks.com/trails/motown/ \nAll rides subject to weather & trail conditions\, cancellation or expansion at a short notice. \nLights may or may not be required based on time of year.
URL:https://ghostridermtb.com/event/tuesday-ride-april-25th/
LOCATION:Serena Gundy Parking Lot\, 58 Rykert Crescent\, Toronto\, Ontario\, M4G 2S9\, Canada
CATEGORIES:Rides
ATTACH;FMTTYPE=image/jpeg:https://ghostridermtb.com/wp-content/uploads/2023/04/20220504_183202_002-scaled.jpg
END:VEVENT
END:VCALENDAR