BEGIN:VCALENDAR
VERSION:2.0
PRODID:-//Ghost Rider MTB - ECPv6.15.14//NONSGML v1.0//EN
CALSCALE:GREGORIAN
METHOD:PUBLISH
X-ORIGINAL-URL:https://ghostridermtb.com
X-WR-CALDESC:Events for Ghost Rider MTB
REFRESH-INTERVAL;VALUE=DURATION:PT1H
X-Robots-Tag:noindex
X-PUBLISHED-TTL:PT1H
BEGIN:VTIMEZONE
TZID:America/Toronto
BEGIN:DAYLIGHT
TZOFFSETFROM:-0500
TZOFFSETTO:-0400
TZNAME:EDT
DTSTART:20220313T070000
END:DAYLIGHT
BEGIN:STANDARD
TZOFFSETFROM:-0400
TZOFFSETTO:-0500
TZNAME:EST
DTSTART:20221106T060000
END:STANDARD
BEGIN:DAYLIGHT
TZOFFSETFROM:-0500
TZOFFSETTO:-0400
TZNAME:EDT
DTSTART:20230312T070000
END:DAYLIGHT
BEGIN:STANDARD
TZOFFSETFROM:-0400
TZOFFSETTO:-0500
TZNAME:EST
DTSTART:20231105T060000
END:STANDARD
BEGIN:DAYLIGHT
TZOFFSETFROM:-0500
TZOFFSETTO:-0400
TZNAME:EDT
DTSTART:20240310T070000
END:DAYLIGHT
BEGIN:STANDARD
TZOFFSETFROM:-0400
TZOFFSETTO:-0500
TZNAME:EST
DTSTART:20241103T060000
END:STANDARD
END:VTIMEZONE
BEGIN:VEVENT
DTSTART;TZID=America/Toronto:20230422T100000
DTEND;TZID=America/Toronto:20230422T130000
DTSTAMP:20260424T081032
CREATED:20230418T134520Z
LAST-MODIFIED:20230418T134708Z
UID:674-1682157600-1682168400@ghostridermtb.com
SUMMARY:Don Valley Earth Day cleanup - hosted by Don't Mess With The Don
DESCRIPTION:This SATURDAY 22nd April 2023\, 10AM-1PM: Earth Day Clean Up!  Rain or shine!!!  Join Don’t Mess with the Don\, local community groups and volunteers from across the city to clean up the Don Valley in celebration of Earth Day 2023. \nMeet us in the south parking lot of ET Seton Park\, accessible via park entrance off of 73 Thorncliffe Park Drive or one of the many Don Valley trails. \nhttps://www.facebook.com/dontmesswiththedon/photos/a.184004375752621/1385511688935211 \nRegistration is not necessary\, but we appreciate you registering for the event on our Facebook event page so we can track numbers: https://fb.me/e/2zyRgWZ1C \nRegistration opens at 9:45am with the cleanup running from 10am-12:00pm. Food\, refreshments\, draw prizes and an opportunity to speak with local environmental groups on site from 12pm-1pm. We will be joined by: Toronto Nature Stewards\, University of Toronto Trash Team \, Friends of Thorncliffe Park\, Afghan Women’s Organization\, TNO – The Neighbourhood Organization\, 53 Division Toronto Police Service\, Toronto Climate Save and Rally Beer Company. \nA cool new feature this year will be a special Earth Day Quiz hosted by Fjällräven Canada\, where you can test your knowledge about our planet and win some amazing prizes donated by Fjallraven\, Salomon Store Toronto\, Culture Athletics\, Jay Quarmby and more. \nWe have a limited supply of gloves\, so please try and bring your own. Don’t forget to bring a reusable water bottle/beverage container as this is a zero waste event! We will provide bags. \nAll DMWTD activities are eligible for volunteer/community service hours.
URL:https://ghostridermtb.com/event/don-valley-earth-day-cleanup-hosted-by-dont-mess-with-the-don/
LOCATION:Ontario
CATEGORIES:Events
ATTACH;FMTTYPE=image/jpeg:https://ghostridermtb.com/wp-content/uploads/2023/04/Dontmesswiththedon.jpg
END:VEVENT
END:VCALENDAR