BEGIN:VCALENDAR
VERSION:2.0
PRODID:-//Ghost Rider MTB - ECPv6.15.14//NONSGML v1.0//EN
CALSCALE:GREGORIAN
METHOD:PUBLISH
X-WR-CALNAME:Ghost Rider MTB
X-ORIGINAL-URL:https://ghostridermtb.com
X-WR-CALDESC:Events for Ghost Rider MTB
REFRESH-INTERVAL;VALUE=DURATION:PT1H
X-Robots-Tag:noindex
X-PUBLISHED-TTL:PT1H
BEGIN:VTIMEZONE
TZID:America/Toronto
BEGIN:DAYLIGHT
TZOFFSETFROM:-0500
TZOFFSETTO:-0400
TZNAME:EDT
DTSTART:20220313T070000
END:DAYLIGHT
BEGIN:STANDARD
TZOFFSETFROM:-0400
TZOFFSETTO:-0500
TZNAME:EST
DTSTART:20221106T060000
END:STANDARD
BEGIN:DAYLIGHT
TZOFFSETFROM:-0500
TZOFFSETTO:-0400
TZNAME:EDT
DTSTART:20230312T070000
END:DAYLIGHT
BEGIN:STANDARD
TZOFFSETFROM:-0400
TZOFFSETTO:-0500
TZNAME:EST
DTSTART:20231105T060000
END:STANDARD
BEGIN:DAYLIGHT
TZOFFSETFROM:-0500
TZOFFSETTO:-0400
TZNAME:EDT
DTSTART:20240310T070000
END:DAYLIGHT
BEGIN:STANDARD
TZOFFSETFROM:-0400
TZOFFSETTO:-0500
TZNAME:EST
DTSTART:20241103T060000
END:STANDARD
END:VTIMEZONE
BEGIN:VEVENT
DTSTART;TZID=America/Toronto:20230413T183000
DTEND;TZID=America/Toronto:20230413T203000
DTSTAMP:20260424T081008
CREATED:20230409T215203Z
LAST-MODIFIED:20230409T215203Z
UID:664-1681410600-1681417800@ghostridermtb.com
SUMMARY:Roller Flowster & Trash Panda ride
DESCRIPTION:Hitting the North trails – Roller Flowster & Trash Panda \n– Intermediate level ride to “first time hit these trails”. \nThese are NOT beginner level rides. \nStarting from Serena Gundy\, heading through Secret Hidden\, up to G-spot\, to Roller Flowster\, around the Apples\, down screwdriver to Trash Panda\, then wherever we feel. \nStart/End point: https://goo.gl/maps/3wGJYoA9wToiuFGZ7 \nAll rides subject to weather & trail conditions\, cancellation or expansion at a short notice. \nLights may or may not be required based on time of year.
URL:https://ghostridermtb.com/event/roller-flowster-trash-panda-ride/
LOCATION:Serena Gundy Parking Lot\, 58 Rykert Crescent\, Toronto\, Ontario\, M4G 2S9\, Canada
CATEGORIES:Rides
END:VEVENT
END:VCALENDAR